BEGIN:VCALENDAR
PRODID:NingEventWidget-v1
VERSION:2.0
METHOD:PUBLISH
BEGIN:VTIMEZONE
TZID:Pacific/Midway
X-LIC-LOCATION:Pacific/Midway
BEGIN:STANDARD
TZOFFSETFROM:-1100
TZOFFSETTO:-1100
TZNAME:SST
DTSTART:19700101T000000
END:STANDARD
END:VTIMEZONE
BEGIN:VEVENT
UID:5072275:Event:1092080
DTSTAMP:20260423T101739Z
SUMMARY:Hooked On Classic's Car and Bike Show
DESCRIPTION:The National Prostate Awareness Association in collaborati
 on with StreetSide Classics Showroom is presenting the first annual \"
 Hooked on Classic's Show and Shine\".  This is the start of an annual
  event to benefit the NPAA's efforts to raise awareness and get men ch
 ecked for Prostate Cancer.  Georgia ranks no.3 in prostate cancer dea
 ths in the country. The folks at StreetSide have graciously donated th
 eir facility to accommodate this worthy cause.  The donation is $10.0
 0 in advance , $20.00 at the gate. Trophies will be given for Best in 
 show, Best Street rod , Best Muscle car, Best bike , Best custom and K
 ids choice awards. We are asking all car enthusiasts, Bikers to come o
 ut, show your ride enjoy the music,  eat good food and fellowship. Al
 l proceeds go to help those men who are uninsured or underinsured get 
 tested for prostate cancer  Thank you all in advance from the  Natio
 nal Prostate Awareness Association and StreetSide Classics car showroo
 m.\n\nFor more information visit https://www.southeastwheelsevents.com
 /events/hooked-on-classic-s-car-and-bike-show
DTSTART;TZID=Pacific/Midway:20180728T100000
DTEND;TZID=Pacific/Midway:20180728T160000
CATEGORIES:fundraiser, " car and bike show "
LOCATION:Street Side Classics Showroom
WEBSITE:http://Streetsideclassics.com
URL:http://Streetsideclassics.com
CONTACT:770-906-6893
ORGANIZER;CN="Warren C. Head Jr.":https://www.southeastwheelsevents.co
 m/profile/WarrenCHeadJr
ATTACH;FMTTYPE="image/jpeg":
ATTENDEE;ROLE=REQ-PARTICIPANT;PARTSTAT=ACCEPTED;RSVP=TRUE;CN="Warren C
 . Head Jr.":https://www.southeastwheelsevents.com/profile/WarrenCHeadJ
 r
END:VEVENT
END:VCALENDAR
