BEGIN:VCALENDAR
PRODID:NingEventWidget-v1
VERSION:2.0
METHOD:PUBLISH
BEGIN:VTIMEZONE
TZID:Pacific/Midway
X-LIC-LOCATION:Pacific/Midway
BEGIN:STANDARD
TZOFFSETFROM:-1100
TZOFFSETTO:-1100
TZNAME:SST
DTSTART:19700101T000000
END:STANDARD
END:VTIMEZONE
BEGIN:VEVENT
UID:5072275:Event:249792
DTSTAMP:20260420T141144Z
SUMMARY:HOOTERS’ Bike Night, Canton, GA.
DESCRIPTION:$2 Domestic Beer, 1/2 Price Appetizers, ALL U Can Eat Wing
 s, Give Aways, and More!!!!\n \nMusic and Entertainment provided to y
 ou by Garage71 Radio!!!\n \n \n\nFor more information visit https://
 www.southeastwheelsevents.com/events/hooters-bike-night-canton-ga
DTSTART;TZID=Pacific/Midway:20110519T180000
DTEND;TZID=Pacific/Midway:20110519T210000
CATEGORIES:bike, night
LOCATION:Hooters in Canton, GA
WEBSITE:http://maps.google.com/maps?f=q&source=s_q&hl=en&geocode=&q=10
 0+River+Pointe+Parkway,+Canton,+GA&aq=0&sll=37.0625,-95.677068&sspn=36
 .642161,67.412109&ie=UTF8&hq=&hnear=River+Pointe+Pkwy,+Canton,+Cheroke
 e,+Georgia+30114&z=16
URL:http://maps.google.com/maps?f=q&source=s_q&hl=en&geocode=&q=100+Ri
 ver+Pointe+Parkway,+Canton,+GA&aq=0&sll=37.0625,-95.677068&sspn=36.642
 161,67.412109&ie=UTF8&hq=&hnear=River+Pointe+Pkwy,+Canton,+Cherokee,+G
 eorgia+30114&z=16
CONTACT:678.493.0369
ORGANIZER;CN="Garage71 and Grease Inc.":https://www.southeastwheelseve
 nts.com/profile/Garage71
ATTACH;FMTTYPE="image/jpeg":http://storage.ning.com/topology/rest/1.0/
 file/get/967594919?profile=original
ATTENDEE;ROLE=REQ-PARTICIPANT;PARTSTAT=ACCEPTED;RSVP=TRUE;CN="Garage71
  and Grease Inc.":https://www.southeastwheelsevents.com/profile/Garage
 71
END:VEVENT
END:VCALENDAR
