BEGIN:VCALENDAR
PRODID:NingEventWidget-v1
VERSION:2.0
METHOD:PUBLISH
BEGIN:VTIMEZONE
TZID:Pacific/Midway
X-LIC-LOCATION:Pacific/Midway
BEGIN:STANDARD
TZOFFSETFROM:-1100
TZOFFSETTO:-1100
TZNAME:SST
DTSTART:19700101T000000
END:STANDARD
END:VTIMEZONE
BEGIN:VEVENT
UID:5072275:Event:250626
DTSTAMP:20260423T155938Z
SUMMARY:Hooters of Kennesaw Car Show -Kennesaw, Ga
DESCRIPTION:$2 Domestic Beer, 1/2 Price Appetizers, All U Can Eat Wing
 s, Give Aways, & MORE!!!!\nMusic & entertainment provided to you by Ga
 rage 71!\n\nFor more information visit https://www.southeastwheelseven
 ts.com/events/hooters-bike-night-kennesaw-ga
DTSTART;TZID=Pacific/Midway:20110820T100000
DTEND;TZID=Pacific/Midway:20110820T150000
CATEGORIES:car-show
LOCATION:Hooters of Kennesaw
WEBSITE:http://maps.google.com/maps?f=q&source=s_q&hl=en&geocode=&q=Ho
 oters,+Kennesaw,+GA&aq=0&sll=37.0625,-95.677068&sspn=36.642161,67.4121
 09&ie=UTF8&hq=Hooters,&hnear=Kennesaw,+Cobb,+Georgia&ll=34.006139,-84.
 601078&spn=0.071436,0.131664&z=13
URL:http://maps.google.com/maps?f=q&source=s_q&hl=en&geocode=&q=Hooter
 s,+Kennesaw,+GA&aq=0&sll=37.0625,-95.677068&sspn=36.642161,67.412109&i
 e=UTF8&hq=Hooters,&hnear=Kennesaw,+Cobb,+Georgia&ll=34.006139,-84.6010
 78&spn=0.071436,0.131664&z=13
CONTACT:678-372-2316
ORGANIZER;CN="Garage71 and Grease Inc.":https://www.southeastwheelseve
 nts.com/profile/Garage71
ATTACH;FMTTYPE="image/jpeg":http://storage.ning.com/topology/rest/1.0/
 file/get/967595358?profile=original
ATTENDEE;ROLE=REQ-PARTICIPANT;PARTSTAT=ACCEPTED;RSVP=TRUE;CN="walt cur
 ll":https://www.southeastwheelsevents.com/profile/waltcurll
ATTENDEE;ROLE=REQ-PARTICIPANT;PARTSTAT=ACCEPTED;RSVP=TRUE;CN="Garage71
  and Grease Inc.":https://www.southeastwheelsevents.com/profile/Garage
 71
END:VEVENT
END:VCALENDAR
