BEGIN:VCALENDAR
PRODID:NingEventWidget-v1
VERSION:2.0
METHOD:PUBLISH
BEGIN:VTIMEZONE
TZID:Pacific/Midway
X-LIC-LOCATION:Pacific/Midway
BEGIN:STANDARD
TZOFFSETFROM:-1100
TZOFFSETTO:-1100
TZNAME:SST
DTSTART:19700101T000000
END:STANDARD
END:VTIMEZONE
BEGIN:VEVENT
UID:5072275:Event:313680
DTSTAMP:20260421T065858Z
SUMMARY:HOOTERS of Canton 1st Annual Car & Truck Show   Canton, Ga
DESCRIPTION:\nBEST RAT ROD\nBEST ORIGINAL\nBEST MUSCLE CAR\nBEST MUSTA
 NG\nBEST CAMARO\nBEST FOREIGN\nCLUB AWARD\nDAILY DRIVER\nJUDGES PICK\n
 HOOTER'S AWARD\nD.J.'s CHOICE\n\n(3) BEST OF SHOW CARS\n(3) BEST OF SH
 OW TRUCKS\n(1) BEST MINI TRUCK\n \nregistration is $20.00 & starts a
 t 9am\n\nFor more information visit https://www.southeastwheelsevents.
 com/events/hooters-of-canton-1st-annual
DTSTART;TZID=Pacific/Midway:20110716T100000
DTEND;TZID=Pacific/Midway:20110716T160000
CATEGORIES:car, and, truck, show
LOCATION:HOOTERS   100 RIVER POINT PKWY CANTON, GA
WEBSITE:
URL:
CONTACT:404-217-3425
ORGANIZER;CN="Robert Graham":https://www.southeastwheelsevents.com/pro
 file/RobertGraham653
ATTACH;FMTTYPE="image/jpeg":
ATTENDEE;ROLE=REQ-PARTICIPANT;PARTSTAT=ACCEPTED;RSVP=TRUE;CN="Robert G
 raham":https://www.southeastwheelsevents.com/profile/RobertGraham653
END:VEVENT
END:VCALENDAR
