BEGIN:VCALENDAR
PRODID:NingEventWidget-v1
VERSION:2.0
METHOD:PUBLISH
BEGIN:VTIMEZONE
TZID:Pacific/Midway
X-LIC-LOCATION:Pacific/Midway
BEGIN:STANDARD
TZOFFSETFROM:-1100
TZOFFSETTO:-1100
TZNAME:SST
DTSTART:19700101T000000
END:STANDARD
END:VTIMEZONE
BEGIN:VEVENT
UID:5072275:Event:177980
DTSTAMP:20260421T032846Z
SUMMARY:HOOTERS OF GREENVILLE SC
DESCRIPTION:HOOTERS OF GREENVILLE SC\nCar Show -N- Sound Off\n2 Car Sh
 ows at one time Double Car Show\n1. Top 30 Participant Pick\nTop 30 sh
 ow Questions Call 864354-3528\n2. KMS Regular Class Show\nKMS Show Que
 stions Call 803-320-3193\nTriple Point Show\n08-14-2011 Time 100PM to 
 430PM\nOpen to all years, makes, and models, registration 1pm-3pm, awa
 rds at 4:30. Trophies for Top 30 and Best of Show. Live music, door pr
 izes, and discount food coupons. Located at 2401 Laurens Road, Greenvi
 lle, SC 29607. I-85 take exit 48 towards Greenville.\nCar Show 125+ Cl
 asses & True SPL Sound Off\n$25.00 ENTRY FEE FOR 1 SHOW or\n$45.00 ENT
 RY FEE FOR BOTH SHOWS\nMore Info: www.kossmotorsports.com or call Stev
 e 803-320-3193\nMUSIC, FOOD, SOMETHING FOR THE WHOLE FAMILY.\nalways c
 heck out web site to make sure the event was not changed or canceled\n
 \nFor more information visit https://www.southeastwheelsevents.com/eve
 nts/hooters-of-greenville-sc-1
DTSTART;TZID=Pacific/Midway:20110814T130000
DTEND;TZID=Pacific/Midway:20110814T163000
CATEGORIES:car, show, -n-, sound, off
LOCATION:HOOTERS OF GREENVILLE SC
WEBSITE:
URL:
CONTACT:
ORGANIZER:Steve Koss
ATTACH;FMTTYPE="image/jpeg":
ATTENDEE;ROLE=REQ-PARTICIPANT;PARTSTAT=ACCEPTED;RSVP=TRUE;CN="Tour Del
 ux Rally":https://www.southeastwheelsevents.com/profile/Steve
ATTENDEE;ROLE=REQ-PARTICIPANT;PARTSTAT=TENTATIVE;RSVP=TRUE;CN="Mike & 
 Beverly Raznoff":https://www.southeastwheelsevents.com/profile/Beverly
 Raznoff
END:VEVENT
END:VCALENDAR
