BEGIN:VCALENDAR
PRODID:NingEventWidget-v1
VERSION:2.0
METHOD:PUBLISH
BEGIN:VTIMEZONE
TZID:Pacific/Midway
X-LIC-LOCATION:Pacific/Midway
BEGIN:STANDARD
TZOFFSETFROM:-1100
TZOFFSETTO:-1100
TZNAME:SST
DTSTART:19700101T000000
END:STANDARD
END:VTIMEZONE
BEGIN:VEVENT
UID:5072275:Event:931015
DTSTAMP:20260422T224805Z
SUMMARY:Hornsby Fall Classic -Hornsby, TN.
DESCRIPTION:Car Cruise In\nFee $20\n50/50 Drawing\nFor Information cal
 l Betty Kirk 731-453-5543\n\n\nFor more information visit https://www.
 southeastwheelsevents.com/events/hornsby-fall-classic-hornsby-tn
DTSTART;TZID=Pacific/Midway:20150912T100000
DTEND;TZID=Pacific/Midway:20150912T200000
CATEGORIES:car, cruise, in
LOCATION:Main St. Hornsby, TN.
WEBSITE:http://www.hornsbytn.com
URL:http://www.hornsbytn.com
CONTACT:731-659-2926
ORGANIZER:Mayor Mack Carter Jr.
ATTACH;FMTTYPE="image/jpeg":http://storage.ning.com/topology/rest/1.0/
 file/get/967693224?profile=original
ATTENDEE;ROLE=REQ-PARTICIPANT;PARTSTAT=ACCEPTED;RSVP=TRUE;CN="Loretta 
 Doles":https://www.southeastwheelsevents.com/profile/LorettaDoles
ATTENDEE;ROLE=REQ-PARTICIPANT;PARTSTAT=TENTATIVE;RSVP=TRUE;CN="Michael
  Thies":https://www.southeastwheelsevents.com/profile/MichaelThies
END:VEVENT
END:VCALENDAR
