BEGIN:VCALENDAR
PRODID:NingEventWidget-v1
VERSION:2.0
METHOD:PUBLISH
BEGIN:VTIMEZONE
TZID:Pacific/Midway
X-LIC-LOCATION:Pacific/Midway
BEGIN:STANDARD
TZOFFSETFROM:-1100
TZOFFSETTO:-1100
TZNAME:SST
DTSTART:19700101T000000
END:STANDARD
END:VTIMEZONE
BEGIN:VEVENT
UID:5072275:Event:1256533
DTSTAMP:20260423T121716Z
SUMMARY:Horsepower at the Pony, Brookhaven, GA
DESCRIPTION:WE'RE BACK! Everyone missed out shows at the Pink Pony las
 t year, so we are bringing them back in '24! Our first stop will be on
  July 20th for our Animal Rescue fundraiser.\nOur shows are open to AL
 L Years-Makes-Models! Best Classic, Best Modern and Top 15 Popular Cho
 ice awards along with some Special awards. Burgers, Hot Dogs, Cold Dri
 nks, music, door prizes, 50/50 raffle and MORE!\nEntry Fee is $20. 100
 % of entry fees and raffle proceeds benefit Planned PEThood of Georgia
  (animal rescues).\nRegistration opens at 11:00 am, NO Pre-registratio
 n!\nMAKE YOUR PLANS TO ATTEND!\nGeorgia Cool Cruisers, Inc. is a 501c3
  Non-profit Organization\n\nFor more information visit https://www.sou
 theastwheelsevents.com/events/horsepower-at-the-pony-brookhaven-ga-4
DTSTART;TZID=Pacific/Midway:20240720T120000
DTEND;TZID=Pacific/Midway:20240720T160000
CATEGORIES:open, car, show, charity, fundraiser
LOCATION:The Pink Pony
WEBSITE:http://GeorgiaCoolCruisers.org
URL:http://GeorgiaCoolCruisers.org
CONTACT:404-732-6842
ORGANIZER;CN="Rick Ellis":https://www.southeastwheelsevents.com/profil
 e/RickEllis
ATTACH;FMTTYPE="image/jpeg":https://storage.ning.com/topology/rest/1.0
 /file/get/12149310670?profile=original
ATTENDEE;ROLE=REQ-PARTICIPANT;PARTSTAT=ACCEPTED;RSVP=TRUE;CN="Rick Ell
 is":https://www.southeastwheelsevents.com/profile/RickEllis
END:VEVENT
END:VCALENDAR
