BEGIN:VCALENDAR
PRODID:NingEventWidget-v1
VERSION:2.0
METHOD:PUBLISH
BEGIN:VTIMEZONE
TZID:Pacific/Midway
X-LIC-LOCATION:Pacific/Midway
BEGIN:STANDARD
TZOFFSETFROM:-1100
TZOFFSETTO:-1100
TZNAME:SST
DTSTART:19700101T000000
END:STANDARD
END:VTIMEZONE
BEGIN:VEVENT
UID:5072275:Event:429884
DTSTAMP:20260423T105631Z
SUMMARY:Hospice for Heroes Motorcycle Run -Clayton, GA
DESCRIPTION:Regency Hospice for Heroes Motorcycle Run\n\nFor more info
 rmation visit https://www.southeastwheelsevents.com/events/hospice-for
 -heroes-motorcycle-run
DTSTART;TZID=Pacific/Midway:20111015T100000
DTEND;TZID=Pacific/Midway:20111015T150000
CATEGORIES:fundraiser, for, 2011, "veterans'", appreciation, dinner
LOCATION:Clayton, GA
WEBSITE:http://rabuncountyveterans.com
URL:http://rabuncountyveterans.com
CONTACT:706-490-2824
ORGANIZER;CN="Robin Watts":https://www.southeastwheelsevents.com/profi
 le/RobinWatts
ATTACH;FMTTYPE="image/jpeg":http://storage.ning.com/topology/rest/1.0/
 file/get/967598636?profile=original
ATTENDEE;ROLE=REQ-PARTICIPANT;PARTSTAT=ACCEPTED;RSVP=TRUE;CN="Snitch A
 dams":https://www.southeastwheelsevents.com/profile/SnitchAdams
ATTENDEE;ROLE=REQ-PARTICIPANT;PARTSTAT=ACCEPTED;RSVP=TRUE;CN="Robin Wa
 tts":https://www.southeastwheelsevents.com/profile/RobinWatts
END:VEVENT
END:VCALENDAR
