BEGIN:VCALENDAR
PRODID:NingEventWidget-v1
VERSION:2.0
METHOD:PUBLISH
BEGIN:VTIMEZONE
TZID:Pacific/Midway
X-LIC-LOCATION:Pacific/Midway
BEGIN:STANDARD
TZOFFSETFROM:-1100
TZOFFSETTO:-1100
TZNAME:SST
DTSTART:19700101T000000
END:STANDARD
END:VTIMEZONE
BEGIN:VEVENT
UID:5072275:Event:598643
DTSTAMP:20260424T100327Z
SUMMARY:Hospice Hearts Classic Bike & Auto Show -Chattanooga, TN
DESCRIPTION:$20 Registration from 9 a.m. to 12 noon 4411 Oakwood Drive
  off Hwy 58 (arrive together to park together) Judging begins as soon 
 as vehicles are ready. Music-Door Prizes-People’s Choice Award-Food-
 Goodie Bags-Over 50 Trophies. Bring Your Club! Proceed benefit Hospice
  of Chattanooga Veteran's Program. Kathi Mowery 423-892-4289 X-10103\n
 \nFor more information visit https://www.southeastwheelsevents.com/eve
 nts/hospice-hearts-classic-bike-auto-show
DTSTART;TZID=Pacific/Midway:20121117T090000
DTEND;TZID=Pacific/Midway:20121117T150000
CATEGORIES:fundraiser, bike, "&", auto, show
LOCATION:Hospice of Chattanooga
WEBSITE:
URL:
CONTACT:423-892-4289 X-10103
ORGANIZER:Kathi Mowery
ATTACH;FMTTYPE="image/jpeg":
ATTENDEE;ROLE=REQ-PARTICIPANT;PARTSTAT=ACCEPTED;RSVP=TRUE;CN="Susan Wi
 tt":https://www.southeastwheelsevents.com/profile/SusanWitt
END:VEVENT
END:VCALENDAR
