BEGIN:VCALENDAR
PRODID:NingEventWidget-v1
VERSION:2.0
METHOD:PUBLISH
BEGIN:VTIMEZONE
TZID:Pacific/Midway
X-LIC-LOCATION:Pacific/Midway
BEGIN:STANDARD
TZOFFSETFROM:-1100
TZOFFSETTO:-1100
TZNAME:SST
DTSTART:19700101T000000
END:STANDARD
END:VTIMEZONE
BEGIN:VEVENT
UID:5072275:Event:627095
DTSTAMP:20260424T123236Z
SUMMARY:Hospice Honor Ride Poker Run -Chattanooga, TN
DESCRIPTION:Our First Poker Run to benefit our Vet to Vet Program has
  been postponed until June 8th due to severe weather. Veteran voluntee
 rs recognize our veteran patients for their military service with a sp
 ecial pin, framed certificate and red, white and blue afghan during a 
 special ceremony wherever the patient might be.\nThrough May 31 Rider 
 $20 (includes food, t-shirt & 1 hand) Passenger $10 (includes food, t-
 shirt) Extra Hands $5\nAfter May 31st Rider $25 Passenger $10 All Ex
 tra Hands $5\nRegistration begins at 8:00 a.m. with breakfast & coffee
  – Lunch in Dayton, TN\nFirst Bike Out 9:30 from Hospice of Chattano
 oga, 165 Hamm Road, Chattanooga... through the beautiful Sequatchie Va
 lley... lunch in Dayton... back to Hospice of Chattanooga, 4411 Oakwoo
 d Drive, Chattanooga.\n\nI hope you can join in on the ride to help us
  honor our veterans. Please help us spread the word…\n \nPlease cal
 l 423-892-1278 to pre-register or for additional information.\n\nFor m
 ore information visit https://www.southeastwheelsevents.com/events/hos
 pice-honor-ride-poker-run
DTSTART;TZID=Pacific/Midway:20130608T080000
DTEND;TZID=Pacific/Midway:20130608T160000
CATEGORIES:fundraiser, motorcycle, poker, run
LOCATION:Hospice of Chattanooga
WEBSITE:http://www.hospiceofchattanooga.org/www/events/205.598
URL:http://www.hospiceofchattanooga.org/www/events/205.598
CONTACT:423-892-1278
ORGANIZER;CN="Susan Witt":https://www.southeastwheelsevents.com/profil
 e/SusanWitt
ATTACH;FMTTYPE="image/jpeg":http://storage.ning.com/topology/rest/1.0/
 file/get/967633604?profile=original
ATTENDEE;ROLE=REQ-PARTICIPANT;PARTSTAT=ACCEPTED;RSVP=TRUE;CN="Susan Wi
 tt":https://www.southeastwheelsevents.com/profile/SusanWitt
END:VEVENT
END:VCALENDAR
