BEGIN:VCALENDAR
PRODID:NingEventWidget-v1
VERSION:2.0
METHOD:PUBLISH
BEGIN:VTIMEZONE
TZID:Pacific/Midway
X-LIC-LOCATION:Pacific/Midway
BEGIN:STANDARD
TZOFFSETFROM:-1100
TZOFFSETTO:-1100
TZNAME:SST
DTSTART:19700101T000000
END:STANDARD
END:VTIMEZONE
BEGIN:VEVENT
UID:5072275:Event:699843
DTSTAMP:20260424T123646Z
SUMMARY:Hospice of Chattanooga Classic Auto Show -Chattanooga, TN
DESCRIPTION:Classic Cars, Trucks, Military Vehicles, Motorcycles\nBrin
 g your Club!\nOver 50 Trophies!\nFood, Music, Door Prizes\n\nFor more 
 information visit https://www.southeastwheelsevents.com/events/hospice
 -of-chattanooga-classic-auto-show
DTSTART;TZID=Pacific/Midway:20131019T090000
DTEND;TZID=Pacific/Midway:20131019T150000
CATEGORIES:fundraiser, for, vet, to, program
LOCATION:Hospice of Chattanooga
WEBSITE:http://www.hospiceofchattanooga.org/www/events/205.603
URL:http://www.hospiceofchattanooga.org/www/events/205.603
CONTACT:423-892-4289 X-10103
ORGANIZER:Kathi Mowery
ATTACH;FMTTYPE="image/jpeg":http://storage.ning.com/topology/rest/1.0/
 file/get/967646968?profile=original
ATTENDEE;ROLE=REQ-PARTICIPANT;PARTSTAT=ACCEPTED;RSVP=TRUE;CN="Susan Wi
 tt":https://www.southeastwheelsevents.com/profile/SusanWitt
END:VEVENT
END:VCALENDAR
