BEGIN:VCALENDAR
PRODID:NingEventWidget-v1
VERSION:2.0
METHOD:PUBLISH
BEGIN:VTIMEZONE
TZID:Pacific/Midway
X-LIC-LOCATION:Pacific/Midway
BEGIN:STANDARD
TZOFFSETFROM:-1100
TZOFFSETTO:-1100
TZNAME:SST
DTSTART:19700101T000000
END:STANDARD
END:VTIMEZONE
BEGIN:VEVENT
UID:5072275:Event:501760
DTSTAMP:20260419T035806Z
SUMMARY:Hot August Night -McDonough, GA
DESCRIPTION:Saturday, August 25th, 2012\n4:00 PM to 8:00 PM\nHero Crui
 se-In Open Car Show\nSummit Racing Equipment, McDonough, GA\nRick @ 40
 4-732-6842\nwww.NorthGeorgiaMoparClub.com\n\nFor more information visi
 t https://www.southeastwheelsevents.com/events/hot-august-night
DTSTART;TZID=Pacific/Midway:20120825T160000
DTEND;TZID=Pacific/Midway:20120825T200000
CATEGORIES:hero, fund, cruise-in
LOCATION:Summit Racing Equipment
WEBSITE:
URL:
CONTACT:404-732-6842
ORGANIZER:Mopar Club
ATTACH;FMTTYPE="image/jpeg":http://storage.ning.com/topology/rest/1.0/
 file/get/967614667?profile=original
ATTENDEE;ROLE=REQ-PARTICIPANT;PARTSTAT=ACCEPTED;RSVP=TRUE;CN="John Cur
 tis Smith":https://www.southeastwheelsevents.com/profile/JohnCurtisSmi
 th
ATTENDEE;ROLE=REQ-PARTICIPANT;PARTSTAT=ACCEPTED;RSVP=TRUE;CN=Linda:htt
 ps://www.southeastwheelsevents.com/profile/Linda
ATTENDEE;ROLE=REQ-PARTICIPANT;PARTSTAT=TENTATIVE;RSVP=TRUE;CN="Philip 
 Hardebeck":https://www.southeastwheelsevents.com/profile/PhilipHardebe
 ck
END:VEVENT
END:VCALENDAR
