BEGIN:VCALENDAR
PRODID:NingEventWidget-v1
VERSION:2.0
METHOD:PUBLISH
BEGIN:VTIMEZONE
TZID:Pacific/Midway
X-LIC-LOCATION:Pacific/Midway
BEGIN:STANDARD
TZOFFSETFROM:-1100
TZOFFSETTO:-1100
TZNAME:SST
DTSTART:19700101T000000
END:STANDARD
END:VTIMEZONE
BEGIN:VEVENT
UID:5072275:Event:1049433
DTSTAMP:20260420T064500Z
SUMMARY:Hot Dogs, Handlebars & Hot Rods -Pell City, Al
DESCRIPTION:\n\nHot Dogs, Handlebars & Hot Rods\nMAY 6, 201711:00 AM â
 €“ 3:00 PM\n\n\n\n\n\n\nBring the kids and their bikes for a great day
  of family fun at Hot Dogs, Handlebars & Hot Rods!\nFree hot dogs! Bic
 ycle riding course! Car & motorcycle show!\n$20 Entry fee for Car/moto
 rcycle show, proceeds to benefit Childrenâ€™s ministry of Eden Westsid
 e Baptist Church.\nClick here to register your hot rod/motorcycle.\n\n
 \n\nDonâ€™t Miss Hotdogs, Handlebars & Hot Rods 2017 on Saturday, May 
 6, 2017 from 11:00 AM until 3:00 PM at Eden Westside Baptist Church in
  Pell City, Alabama.\nHot Dogs, Handlebars & Hot Rods\n\nDoes a Candy-
 apple red â€™66 Mustang get your motor running? How about a sleek â€™5
 7 Bel Air Sport CoupĂ© in India Ivory and Tropical Turquoise? Perhaps 
 you prefer something a little meaner â€¦ like a classic Harley-Davidso
 n MT350E?\nWhatever engine gets you roaring, you might be able to get 
 a glimpse of one at Hotdogs, Handlebars, and Hotrods. Each year, the c
 hildrenâ€™s department of Eden Westside hosts this special event for o
 ur community to enjoy and this yearâ€™s event is scheduled for Saturda
 y, May 6th from 11 AMÂ to 3 PM.\nAdmission to Hotdogs, Handlebars & Ho
 trods is completely FREE, and offers fun for everyone in the family. R
 egister to win a brand new bicycle, or enter your own motorcycle or ho
 t rod into our Motorcycle & Hotrod/Classic Car Show. Vote for your fav
 orite entries in the â€śPeopleâ€™s Choiceâ€ť Awards. (Thereâ€™s a $20 
 entry fee for each bike or car you enter and all proceeds go to our ch
 ildrenâ€™s department for ministry projects.)\nTake advantage of our S
 afe Bicycle Course for your child to enjoy and chow down on some FREE 
 hot dogs! Weâ€™ll also be entertaining the kiddies with inflatables an
 d a special appearance by Smokey the Bear. Everyone can enjoy our hay 
 rides, which take you up Revelation Mountain and back down again, for 
 one of the most spectacular views in St. Clair County!\nSo, bring a ki
 d and a bicycle or load up your own hot rod or motorcycle and join us 
 at the Eden Campus of Eden Westside Baptist Church on Saturday, May 6t
 h from 11:00 a.m. to 3:00 p.m. Donâ€™t miss this FREE family fun!\n\n\
 n\n\n\n\n\nFor more information visit https://www.southeastwheelsevent
 s.com/events/hot-dogs-handlebars-hot-rods-pell-city-al
DTSTART;TZID=Pacific/Midway:20170504T180000
DTEND;TZID=Pacific/Midway:20170504T190000
CATEGORIES:car, show, festival, meet
LOCATION:Eden Westside Baptist Church
WEBSITE:http://www.edenwestside.org/events/hot-dogs-handlebars-hot-rod
 s/
URL:http://www.edenwestside.org/events/hot-dogs-handlebars-hot-rods/
CONTACT:205-338-7711
ORGANIZER:Eden Westside Baptist Church
ATTACH;FMTTYPE="image/jpeg":http://storage.ning.com/topology/rest/1.0/
 file/get/967745932?profile=original
ATTENDEE;ROLE=REQ-PARTICIPANT;PARTSTAT=ACCEPTED;RSVP=TRUE;CN="Chuck Aa
 ron":https://www.southeastwheelsevents.com/profile/ChuckAaron886
END:VEVENT
END:VCALENDAR
