BEGIN:VCALENDAR
PRODID:NingEventWidget-v1
VERSION:2.0
METHOD:PUBLISH
BEGIN:VTIMEZONE
TZID:Pacific/Midway
X-LIC-LOCATION:Pacific/Midway
BEGIN:STANDARD
TZOFFSETFROM:-1100
TZOFFSETTO:-1100
TZNAME:SST
DTSTART:19700101T000000
END:STANDARD
END:VTIMEZONE
BEGIN:VEVENT
UID:5072275:Event:27482
DTSTAMP:20260419T145338Z
SUMMARY:Hot Rod Power Tour 2010 -Mobile, AL
DESCRIPTION:Hot Rod Power Tour 2010 -Chattanooga, TN\nThe HOT ROD Powe
 r Tour is easily considered one of the best automotive tours in the wo
 rld and is a rolling testament to what HOT ROD magazine is all about. 
 The seven-day, seven-city tour kicks off June 5th and will wind its wa
 y through the midwest and southeast and will generate a nationwide buz
 z in the automotive enthusiast market!\nSaturday June 5\nNewton, IA, I
 owa Speedway\n\nSunday June 6\nSpringfield, IL, Downtown Springfield\n
 \nMonday June 7\nDuQuoin, IL, DuQuoin State Fairgrounds\n\nTuesday Jun
 e 8\nBowling Green, KY, Warren County Airport\n\nWednesday June 9\nCha
 ttanooga, TN, Chattanooga State Community College\n\nThursday June 10\
 nBirmingham, AL, Regions Park Stadium\n\nFriday June 11\nMobile, AL, D
 owntown Mobile\n\nSaturday June 12\nMobile, AL, U.S.S. Alabama\n(Long 
 Hauler Awards)\n\nFor more information visit https://www.southeastwhee
 lsevents.com/events/hot-rod-power-tour-2010-mobile
DTSTART;TZID=Pacific/Midway:20100611T000000
DTEND;TZID=Pacific/Midway:20100612T235900
CATEGORIES:car-show-tour
LOCATION:Downtown Mobile
WEBSITE:http://www.hotrod.com/2010/powertour/index.html
URL:http://www.hotrod.com/2010/powertour/index.html
CONTACT:877-413-6515
ORGANIZER:Hot Rod Magazine
ATTACH;FMTTYPE="image/jpeg":http://storage.ning.com/topology/rest/1.0/
 file/get/967574804?profile=original
ATTENDEE;ROLE=REQ-PARTICIPANT;PARTSTAT=ACCEPTED;RSVP=TRUE;CN=Leroy:htt
 ps://www.southeastwheelsevents.com/profile/Leroy
END:VEVENT
END:VCALENDAR
