BEGIN:VCALENDAR
PRODID:NingEventWidget-v1
VERSION:2.0
METHOD:PUBLISH
BEGIN:VTIMEZONE
TZID:Pacific/Midway
X-LIC-LOCATION:Pacific/Midway
BEGIN:STANDARD
TZOFFSETFROM:-1100
TZOFFSETTO:-1100
TZNAME:SST
DTSTART:19700101T000000
END:STANDARD
END:VTIMEZONE
BEGIN:VEVENT
UID:5072275:Event:1197611
DTSTAMP:20260423T093801Z
SUMMARY:HOT ROD Power Tour 2020 - Starts Norwalk Ohio
DESCRIPTION:HOT ROD Power Tour 2020, Presented by Chevrolet Performanc
 e and Driven by Continental, will move from June to August 23-29 due
  to the unprecedented circumstances and our strong desire for the cont
 inued safety and well-being of our HOT ROD family. But not to worry, y
 our registration has been automatically transferred to the new dates. 
 The tour will proceed with the traditional seven stops:\r\nHOT ROD Pow
 er Tour 2020: New Dates And Venues\r\n\r\nAugust 23:  Norwalk, Ohio; 
 Venue: TBA\r\nAugust 24: National Trail Raceway; Hebron, Ohio (NEW VEN
 UE AND CITY)\r\nAugust 25: Indiana State Fairgrounds; Indianapolis, In
 diana (NEW VENUE)\r\nAugust 26: WWT Raceway at Gateway; St. Louis, Mis
 souri\r\nAugust 27: University of Illinois, State Farm Center; Champai
 gn, Illinois\r\nAugust 28: Mississippi Valley Fairgrounds; Davenport, 
 Iowa\r\nAugust 29: Chicagoland Speedway; Joliet, Illinois (NEW VENUE A
 ND CITY)\r\n\r\nFor the estimated 6,000 cars and their occupants, the 
 venues are packed with all kinds of activities: main-stage celebrity a
 ppearances, games, entertainment, and a midway of more than 50 afterma
 rket performance vendors displaying all of their latest products. A fe
 w locations will also feature fun runs down the quarter-mile and autoc
 ross courses. (Check out the gallery for some highlights from Power T
 our 2019!)\r\n \r\n \n\nFor more information visit https://www.south
 eastwheelsevents.com/events/hot-rod-power-tour-2020-starts-norwalk-ohi
 o
DTSTART;TZID=Pacific/Midway:20200823T180000
DTEND;TZID=Pacific/Midway:20200829T190000
CATEGORIES:car, show, tour, festival
LOCATION:From Ghio to Iowa
WEBSITE:https://www.hotrod.com/articles/hot-rod-power-tour-2020-new-da
 tes/
URL:https://www.hotrod.com/articles/hot-rod-power-tour-2020-new-dates/
CONTACT:248.594.5999
ORGANIZER:Motor Trend
ATTACH;FMTTYPE="image/jpeg":https://storage.ning.com/topology/rest/1.0
 /file/get/6499915861?profile=original
ATTENDEE;ROLE=REQ-PARTICIPANT;PARTSTAT=ACCEPTED;RSVP=TRUE;CN="Chuck Aa
 ron":https://www.southeastwheelsevents.com/profile/ChuckAaron886
END:VEVENT
END:VCALENDAR
