BEGIN:VCALENDAR
PRODID:NingEventWidget-v1
VERSION:2.0
METHOD:PUBLISH
BEGIN:VTIMEZONE
TZID:Pacific/Midway
X-LIC-LOCATION:Pacific/Midway
BEGIN:STANDARD
TZOFFSETFROM:-1100
TZOFFSETTO:-1100
TZNAME:SST
DTSTART:19700101T000000
END:STANDARD
END:VTIMEZONE
BEGIN:VEVENT
UID:5072275:Event:1167831
DTSTAMP:20260423T070115Z
SUMMARY:Hot Rod's Diner Cruise In -Social Circle, GA
DESCRIPTION:Food\r\nMusic\r\nGive aways\n\nFor more information visit 
 https://www.southeastwheelsevents.com/events/hot-rod-s-diner-cruise-in
 -social-circle-ga-2
DTSTART;TZID=Pacific/Midway:20190615T180000
DTEND;TZID=Pacific/Midway:20190615T210000
CATEGORIES:cruisi, in, car, show, "www.southeastwheelsevents.com"
LOCATION:Hot Rods Diner
WEBSITE:https://www.facebook.com/events/2342603369286363/
URL:https://www.facebook.com/events/2342603369286363/
CONTACT:
ORGANIZER:Hot Rod's Diner
ATTACH;FMTTYPE="image/jpeg":
ATTENDEE;ROLE=REQ-PARTICIPANT;PARTSTAT=ACCEPTED;RSVP=TRUE;CN="Michael 
 Thies":https://www.southeastwheelsevents.com/profile/MichaelThies
END:VEVENT
END:VCALENDAR
