BEGIN:VCALENDAR
PRODID:NingEventWidget-v1
VERSION:2.0
METHOD:PUBLISH
BEGIN:VTIMEZONE
TZID:Pacific/Midway
X-LIC-LOCATION:Pacific/Midway
BEGIN:STANDARD
TZOFFSETFROM:-1100
TZOFFSETTO:-1100
TZNAME:SST
DTSTART:19700101T000000
END:STANDARD
END:VTIMEZONE
BEGIN:VEVENT
UID:5072275:Event:566669
DTSTAMP:20260424T120627Z
SUMMARY:Hot Rod's Diner
DESCRIPTION:Hot Rod’s Diner has monthly Car Show that will be Featur
 ing Wolfman Rock & Roll Revue. Hot Rod’s Diner is a 50’s style res
 taurant that will take you back to the past. With the fantastic entert
 ainment offered at our car shows, the topping on the cake is having in
 describable food that your mouth will never forget tasting such as: Bu
 rgers, Hotdogs, Sandwiches, and our verity of sides that are 100% REAL
  BEEF THAT IS NEVER FROZEN ALSO MADE IN HOUSE! Everything is freshly c
 ooked by order. All Car Show participants will get a FREE Regular Milk
 shake of their choice. Hot Rod’s Diner will be giving Three Trophies
  away viewers pick for First, Second, and Third Place. Come out and en
 joy our music, dancing, and fun.\n\nFor more information visit https:/
 /www.southeastwheelsevents.com/events/hot-rod-s-diner
DTSTART;TZID=Pacific/Midway:20120919T180000
DTEND;TZID=Pacific/Midway:20120919T190000
CATEGORIES:car, show
LOCATION:Hot Rod's Diner
WEBSITE:http://www.eatathotrods.com
URL:http://www.eatathotrods.com
CONTACT:770-464-1996
ORGANIZER;CN="Victoria Messer":https://www.southeastwheelsevents.com/p
 rofile/VictoriaMesser
ATTACH;FMTTYPE="image/jpeg":http://storage.ning.com/topology/rest/1.0/
 file/get/967625859?profile=original
ATTENDEE;ROLE=REQ-PARTICIPANT;PARTSTAT=ACCEPTED;RSVP=TRUE;CN="Victoria
  Messer":https://www.southeastwheelsevents.com/profile/VictoriaMesser
END:VEVENT
END:VCALENDAR
