BEGIN:VCALENDAR
PRODID:NingEventWidget-v1
VERSION:2.0
METHOD:PUBLISH
BEGIN:VTIMEZONE
TZID:Pacific/Midway
X-LIC-LOCATION:Pacific/Midway
BEGIN:STANDARD
TZOFFSETFROM:-1100
TZOFFSETTO:-1100
TZNAME:SST
DTSTART:19700101T000000
END:STANDARD
END:VTIMEZONE
BEGIN:VEVENT
UID:5072275:Event:1241846
DTSTAMP:20260425T042939Z
SUMMARY:Hot Rods and Polar Bears Winter Dust-Off Cat Show
DESCRIPTION:Dust off that winter snow shake off that cabin fever. It's
  time for a car show. $20 to show free to look around. Best vintage, b
 est new age, best bike, people's choice, and Pharoahs cream of the cro
 p 15 to be awarded. Get those winter projects finished show up and sho
 w out with one of the best car clubs around.\n\nFor more information v
 isit https://www.southeastwheelsevents.com/events/hot-rods-and-polar-b
 ears-winter-dust-off-cat-show
DTSTART;TZID=Pacific/Midway:20230225T100000
DTEND;TZID=Pacific/Midway:20230225T140000
CATEGORIES:car, show
LOCATION:Whistle Stop Shops
WEBSITE:
URL:
CONTACT:
ORGANIZER:Derrick Stidham and Georgia Cruise Ins and Car Shows
ATTACH;FMTTYPE="image/jpeg":https://storage.ning.com/topology/rest/1.0
 /file/get/10944108867?profile=original
ATTENDEE;ROLE=REQ-PARTICIPANT;PARTSTAT=TENTATIVE;RSVP=TRUE;CN="Jeffrey
  Rutherford":https://www.southeastwheelsevents.com/profile/JeffreyRuth
 erford866
END:VEVENT
END:VCALENDAR
