BEGIN:VCALENDAR
PRODID:NingEventWidget-v1
VERSION:2.0
METHOD:PUBLISH
BEGIN:VTIMEZONE
TZID:Pacific/Midway
X-LIC-LOCATION:Pacific/Midway
BEGIN:STANDARD
TZOFFSETFROM:-1100
TZOFFSETTO:-1100
TZNAME:SST
DTSTART:19700101T000000
END:STANDARD
END:VTIMEZONE
BEGIN:VEVENT
UID:5072275:Event:1273476
DTSTAMP:20260419T051332Z
SUMMARY:HOT RODS at Hayes, Baldwin, GA
DESCRIPTION:MARK YOUR CALENDAR!\nSaturday, March 21, 2026\n10:00 am â€
 “ 2:00 pm\nThe Georgia Cool Cruisers present the 17th Annual\nHOT RODS
  at Hayes Dealerships of Baldwin\nOPEN CAR SHOW & Benefit for Hot Rodd
 ers Childrenâ€™s Charity\nHayes Dealerships of Baldwin, GA\n3660 State
  Hwy 365, Baldwin, GA 3051\nALL Years, Makes & Models Welcome!\nPopula
 r Choice Awards (Best Classic, Best Modern, Top 25)\nFREE Event T-Shir
 ts (1 per registered show car, while supplies last)\nBurgers, Hot Dogs
 , BBQ Sandwiches & Soft Drinks\nMusic & DJ by WCON 99.3 â€śMy Countryâ
 €ť\n50/50 Raffle â€“ Door Prizes\nRaffle to Win a $250 Year One Gift C
 ertificate\nÂ \nEntry Fee: $20 Donation to benefit\nHOT RODDERS CHILDR
 ENâ€™S CHARITY\nRegistration Opens at 9 am â€“ No Pre-registration\nÂ 
 \nGeorgia Cool Cruisers, Inc. is a\nCertified 501c3 Non-Profit Organiz
 ation\n\nFor more information visit https://www.southeastwheelsevents.
 com/events/hot-rods-at-hayes-baldwin-ga-12
DTSTART;TZID=Pacific/Midway:20260321T100000
DTEND;TZID=Pacific/Midway:20260321T140000
CATEGORIES:open, car, show, charity, fundraiser
LOCATION:Hayes Family Dealerships of Baldwin
WEBSITE:http://GeorgiaCoolCruisers.org
URL:http://GeorgiaCoolCruisers.org
CONTACT:404-732-6842
ORGANIZER;CN="Rick Ellis":https://www.southeastwheelsevents.com/profil
 e/RickEllis
ATTACH;FMTTYPE="image/jpeg":https://storage.ning.com/topology/rest/1.0
 /file/get/10766566864?profile=original
ATTENDEE;ROLE=REQ-PARTICIPANT;PARTSTAT=ACCEPTED;RSVP=TRUE;CN="Rick Ell
 is":https://www.southeastwheelsevents.com/profile/RickEllis
END:VEVENT
END:VCALENDAR
