BEGIN:VCALENDAR
PRODID:NingEventWidget-v1
VERSION:2.0
METHOD:PUBLISH
BEGIN:VTIMEZONE
TZID:Pacific/Midway
X-LIC-LOCATION:Pacific/Midway
BEGIN:STANDARD
TZOFFSETFROM:-1100
TZOFFSETTO:-1100
TZNAME:SST
DTSTART:19700101T000000
END:STANDARD
END:VTIMEZONE
BEGIN:VEVENT
UID:5072275:Event:1231630
DTSTAMP:20260421T061329Z
SUMMARY:Hot Rods at Hayes, Baldwin, GA
DESCRIPTION:Join us for our 13th Annual \"Hot Rods at Hayes\" at the H
 ayes Dealerships in Baldwin! Open to ALL Years-Makes-Models! Popular C
 hoice Awards (Best Classic, Best Modern, Top 20), Door Prizes, 50/50 R
 affle, Music, Event T-shirts and Burgers & Hot Dogs hot off the grill!
 \nEntry Fee is a Donation to Benefit the Hot Rodders Children's Charit
 y\n\nFor more information visit https://www.southeastwheelsevents.com/
 events/hot-rods-at-hayes-baldwin-ga-6
DTSTART;TZID=Pacific/Midway:20220326T100000
DTEND;TZID=Pacific/Midway:20220326T140000
CATEGORIES:car, show, fundraiser
LOCATION:Hayes Family Dealerships of Baldwin
WEBSITE:http://www.GeorgiaCoolCruisers.org
URL:http://www.GeorgiaCoolCruisers.org
CONTACT:404-732-6842
ORGANIZER;CN="Rick Ellis":https://www.southeastwheelsevents.com/profil
 e/RickEllis
ATTACH;FMTTYPE="image/jpeg":https://storage.ning.com/topology/rest/1.0
 /file/get/9945833855?profile=original
ATTENDEE;ROLE=REQ-PARTICIPANT;PARTSTAT=ACCEPTED;RSVP=TRUE;CN="WILLIAM 
 DUNCAN":https://www.southeastwheelsevents.com/profile/WILLIAMDUNCAN
ATTENDEE;ROLE=REQ-PARTICIPANT;PARTSTAT=ACCEPTED;RSVP=TRUE;CN="Rick Ell
 is":https://www.southeastwheelsevents.com/profile/RickEllis
END:VEVENT
END:VCALENDAR
