BEGIN:VCALENDAR
PRODID:NingEventWidget-v1
VERSION:2.0
METHOD:PUBLISH
BEGIN:VTIMEZONE
TZID:Pacific/Midway
X-LIC-LOCATION:Pacific/Midway
BEGIN:STANDARD
TZOFFSETFROM:-1100
TZOFFSETTO:-1100
TZNAME:SST
DTSTART:19700101T000000
END:STANDARD
END:VTIMEZONE
BEGIN:VEVENT
UID:5072275:Event:1242675
DTSTAMP:20260422T035103Z
SUMMARY:Hot Rods at Hayes, Baldwin, GA
DESCRIPTION:\nLAST MINUTE UPDATE: Due to the possible early morning ra
 in, we have changed our show time to 11am - 3 pm to give the roads a c
 hance to dry! The Show is ON!\nJoin the Cool Cruisers for our annual t
 rip north to Baldwin, Georgia at the Hayes Family Dealerships!\nAlways
  a fun time with lots of \"Cool\" cars! ALL Years, Makes & Models are 
 Always Welcome!\nWe will have our Best Classic, Best Modern and Top 20
  Popular Choice awards, Door Prizes, 50/50 Raffle, BBQ Sandwiched & So
 ft Drinks and a chance to win a $250 Gift Certificate to Year One Musc
 le Car Parts (tickets $2 or 3/$5).\nFree Event T-shirt! Limit one per 
 registered show car, while supplies last.\nEntry fee is a suggested $2
 0 donation to benefit the Hot Rodders Children's Charity.\n\n\nFor mor
 e information visit https://www.southeastwheelsevents.com/events/hot-r
 ods-at-hayes-baldwin-ga-7
DTSTART;TZID=Pacific/Midway:20230325T110000
DTEND;TZID=Pacific/Midway:20230325T150000
CATEGORIES:open, car, show, fundraiser
LOCATION:Hayes Family Dealerships
WEBSITE:http://www.GeorgiaCoolCruisers.org
URL:http://www.GeorgiaCoolCruisers.org
CONTACT:404-732-6842
ORGANIZER;CN="Rick Ellis":https://www.southeastwheelsevents.com/profil
 e/RickEllis
ATTACH;FMTTYPE="image/jpeg":https://storage.ning.com/topology/rest/1.0
 /file/get/11000088258?profile=original
ATTENDEE;ROLE=REQ-PARTICIPANT;PARTSTAT=ACCEPTED;RSVP=TRUE;CN="Rick Ell
 is":https://www.southeastwheelsevents.com/profile/RickEllis
ATTENDEE;ROLE=REQ-PARTICIPANT;PARTSTAT=TENTATIVE;RSVP=TRUE;CN="Forrest
  Mahannah":https://www.southeastwheelsevents.com/profile/ForrestMahann
 ah
END:VEVENT
END:VCALENDAR
