BEGIN:VCALENDAR
PRODID:NingEventWidget-v1
VERSION:2.0
METHOD:PUBLISH
BEGIN:VTIMEZONE
TZID:Pacific/Midway
X-LIC-LOCATION:Pacific/Midway
BEGIN:STANDARD
TZOFFSETFROM:-1100
TZOFFSETTO:-1100
TZNAME:SST
DTSTART:19700101T000000
END:STANDARD
END:VTIMEZONE
BEGIN:VEVENT
UID:5072275:Event:1245742
DTSTAMP:20260422T072422Z
SUMMARY:Hot Rods at Hayes, Baldwin, GA
DESCRIPTION:Join the Cool Cruisers for our annual trip north to Baldwi
 n, Georgia at the Hayes Family Dealerships!\r\nAlways a fun time with 
 lots of \"Cool\" cars! ALL Years, Makes & Models are Always Welcome!\r
 \nWe will have our Best Classic, Best Modern and Top 20 Popular Choice
  awards, Door Prizes, 50/50 Raffle, BBQ Sandwiched & Soft Drinks and a
  chance to win a $250 Gift Certificate to Year One Muscle Car Parts (t
 ickets $2 or 3/$5).\r\nFree Event T-shirt! Limit one per registered sh
 ow car, while supplies last.\r\nEntry fee is a suggested $20 donation 
 to benefit the Hot Rodders Children's Charity.\r\n\n\nFor more informa
 tion visit https://www.southeastwheelsevents.com/events/hot-rods-at-ha
 yes-baldwin-ga-9
DTSTART;TZID=Pacific/Midway:20230325T100000
DTEND;TZID=Pacific/Midway:20230325T140000
CATEGORIES:open, car, show, fundraiser
LOCATION:Hayes Family Dealerships
WEBSITE:http://www.GeorgiaCoolCruisers.org
URL:http://www.GeorgiaCoolCruisers.org
CONTACT:404-732-6842
ORGANIZER:Rick Ellis
ATTACH;FMTTYPE="image/jpeg":https://storage.ning.com/topology/rest/1.0
 /file/get/11000088258?profile=original
ATTENDEE;ROLE=REQ-PARTICIPANT;PARTSTAT=ACCEPTED;RSVP=TRUE;CN="RONALD L
 IPPMAN":https://www.southeastwheelsevents.com/profile/RONALDLIPPMAN
ATTENDEE;ROLE=REQ-PARTICIPANT;PARTSTAT=ACCEPTED;RSVP=TRUE;CN="Chuck Aa
 ron":https://www.southeastwheelsevents.com/profile/ChuckAaron886
END:VEVENT
END:VCALENDAR
