BEGIN:VCALENDAR
PRODID:NingEventWidget-v1
VERSION:2.0
METHOD:PUBLISH
BEGIN:VTIMEZONE
TZID:Pacific/Midway
X-LIC-LOCATION:Pacific/Midway
BEGIN:STANDARD
TZOFFSETFROM:-1100
TZOFFSETTO:-1100
TZNAME:SST
DTSTART:19700101T000000
END:STANDARD
END:VTIMEZONE
BEGIN:VEVENT
UID:5072275:Event:1082838
DTSTAMP:20260423T155657Z
SUMMARY:Hot Rods at Hays Car Show
DESCRIPTION:Hot Rods at Hays Car Show-Baldwin GA\n\nFor more informati
 on visit https://www.southeastwheelsevents.com/events/hot-rods-at-hays
 -car-show
DTSTART;TZID=Pacific/Midway:20180512T100000
DTEND;TZID=Pacific/Midway:20180512T140000
CATEGORIES:car, show
LOCATION:3660 GA 365
WEBSITE:http://georgiacooolcruisers.org
URL:http://georgiacooolcruisers.org
CONTACT:(404) 732-6842
ORGANIZER:Rick Ellis
ATTACH;FMTTYPE="image/jpeg":http://storage.ning.com/topology/rest/1.0/
 file/get/967768328?profile=original
ATTENDEE;ROLE=REQ-PARTICIPANT;PARTSTAT=ACCEPTED;RSVP=TRUE;CN="Anthony 
 Hopkins":https://www.southeastwheelsevents.com/profile/AnthonyHopkins
END:VEVENT
END:VCALENDAR
