BEGIN:VCALENDAR
PRODID:NingEventWidget-v1
VERSION:2.0
METHOD:PUBLISH
BEGIN:VTIMEZONE
TZID:Pacific/Midway
X-LIC-LOCATION:Pacific/Midway
BEGIN:STANDARD
TZOFFSETFROM:-1100
TZOFFSETTO:-1100
TZNAME:SST
DTSTART:19700101T000000
END:STANDARD
END:VTIMEZONE
BEGIN:VEVENT
UID:5072275:Event:237974
DTSTAMP:20260420T201443Z
SUMMARY:Hot Wheels for ARK Meals -Kingston Springs, TN
DESCRIPTION:We hope you'll make plans to join us for the 2nd annual Ho
 t Wheels for ARK Meals Car Show benefitting the South Cheatham Ark COm
 munity Resource Center.  Through Meals on Wheels, utility assistance 
 and MANY more programs, we assist our community members.  Last year's
  flood brought out the best in the South Cheatham community and the AR
 K played a large role in getting several of our community members back
  into their homes!  Please visit our website www.arkcrc.org to learn 
 more about our organization.\nOur event will take place On Saturday, M
 ay 7, from 11am - 4pm.  Gates open at 10:30 for car entries.  Entry 
 fee is $15 and includes 2 tickets to the event.  Unlimited jumping in
  the inflateables comes with admission for all children.  Admission f
 ee is $5 for both children and adults.  There will be hamburgers and 
 hotdogs and plenty of fun to be had by everyone.  Gates open for car 
 entries at 10:30 am and close for cars at 12:30.  Judging begins at 1
 :00 and trophies will given at 3:30. \n\nFor more information visit h
 ttps://www.southeastwheelsevents.com/events/hot-wheels-for-ark-meals
DTSTART;TZID=Pacific/Midway:20110507T110000
DTEND;TZID=Pacific/Midway:20110507T160000
CATEGORIES:car, show, -, trophies, given, away, in, 20, categories
LOCATION:Harpeth Middle School on the football field/track
WEBSITE:http://8&q=Harpeth+Middle+School&fb=1&gl=us&hq=Harpeth+Middle+
 School&hnear=Pegram,+TN+37143&cid=0,0,2904050916125082369&ei=vdnATd_9D
 4Ty0gHNuoS3Cg&sa=X&oi=local_result&ct=image&resnum=2&ved=0CBsQnwIwAQ
URL:http://8&q=Harpeth+Middle+School&fb=1&gl=us&hq=Harpeth+Middle+Scho
 ol&hnear=Pegram,+TN+37143&cid=0,0,2904050916125082369&ei=vdnATd_9D4Ty0
 gHNuoS3Cg&sa=X&oi=local_result&ct=image&resnum=2&ved=0CBsQnwIwAQ
CONTACT:615.419.0457
ORGANIZER;CN="Shelley Greenlee":https://www.southeastwheelsevents.com/
 profile/ShelleyGreenlee
ATTACH;FMTTYPE="image/jpeg":http://storage.ning.com/topology/rest/1.0/
 file/get/967593867?profile=original
ATTENDEE;ROLE=REQ-PARTICIPANT;PARTSTAT=ACCEPTED;RSVP=TRUE;CN="Shelley 
 Greenlee":https://www.southeastwheelsevents.com/profile/ShelleyGreenle
 e
END:VEVENT
END:VCALENDAR
