BEGIN:VCALENDAR
PRODID:NingEventWidget-v1
VERSION:2.0
METHOD:PUBLISH
BEGIN:VTIMEZONE
TZID:Pacific/Midway
X-LIC-LOCATION:Pacific/Midway
BEGIN:STANDARD
TZOFFSETFROM:-1100
TZOFFSETTO:-1100
TZNAME:SST
DTSTART:19700101T000000
END:STANDARD
END:VTIMEZONE
BEGIN:VEVENT
UID:5072275:Event:1268572
DTSTAMP:20260420T063948Z
SUMMARY:How Sports Betting Works: Basic Principles for Beginners
DESCRIPTION:In recent years, sports betting has moved from the back ro
 oms of bookie shops into the hands of millions thanks to the power of 
 technology. Now, whether you're cheering from the stadium or your sofa
 , placing a bet has never been easier. Especially with the rise of adv
 anced betting platforms and mobile tools, learning to wager intelligen
 tly is more accessible than ever. Platforms like best betting apps in 
 south africa offer thorough comparisons of top-rated betting apps, ma
 king it simple for new punters to find a secure, easy-to-use interface
  to begin their journey — and ensure they’re not left behind in th
 e rapidly evolving world of mobile betting.\n\n\nUnderstanding the Bas
 ics: What Is Sports Betting?\nSports betting means placing a wager on 
 the outcome of a sports event. If your prediction is correct, you win 
 based on the odds. If not, you lose your stake. While it sounds simple
 , successful betting requires understanding and strategy.\nCommon Type
 s of Bets\n\nMoneyline: Pick the winner.\n\nPoint Spread: Bet on the m
 argin of victory.\n\nTotals (Over/Under): Bet on total points scored.\
 n\nProps: Wagers on specific outcomes within a game.\n\nFutures: Long-
 term outcomes like tournament winners.\n\nAccumulators: Combine multip
 le bets for higher payouts.\n\n\nBetting can enhance how you experienc
 e sports. But it should be approached with discipline and knowledge. P
 latforms like Online Betting help guide beginners with trusted apps an
 d tools that make learning easier, safer, and more enjoyable.\n\nFor m
 ore information visit https://www.southeastwheelsevents.com/events/how
 -sports-betting-works-basic-principles-for-beginners
DTSTART;TZID=Pacific/Midway:20250521T180000
DTEND;TZID=Pacific/Midway:20250521T190000
CATEGORIES:event
LOCATION:Brooklyn
WEBSITE:
URL:
CONTACT:
ORGANIZER;CN="Shannon Sims":https://www.southeastwheelsevents.com/prof
 ile/ShannonSims
ATTACH;FMTTYPE="image/jpeg":
ATTENDEE;ROLE=REQ-PARTICIPANT;PARTSTAT=ACCEPTED;RSVP=TRUE;CN="James Fr
 anko":https://www.southeastwheelsevents.com/profile/JamesFranko
ATTENDEE;ROLE=REQ-PARTICIPANT;PARTSTAT=ACCEPTED;RSVP=TRUE;CN="Shannon 
 Sims":https://www.southeastwheelsevents.com/profile/ShannonSims
END:VEVENT
END:VCALENDAR
