BEGIN:VCALENDAR
PRODID:NingEventWidget-v1
VERSION:2.0
METHOD:PUBLISH
BEGIN:VTIMEZONE
TZID:Pacific/Midway
X-LIC-LOCATION:Pacific/Midway
BEGIN:STANDARD
TZOFFSETFROM:-1100
TZOFFSETTO:-1100
TZNAME:SST
DTSTART:19700101T000000
END:STANDARD
END:VTIMEZONE
BEGIN:VEVENT
UID:5072275:Event:1266233
DTSTAMP:20260423T233036Z
SUMMARY:HOW TO PLAY! Drive Toward A Cure For Parkinsonâ€™s Poker Run -
 Lithia Springs,GA
DESCRIPTION:Drive Toward A CureÂ® for Parkinsonâ€™s Disease\r\nPOKER R
 UN\r\nJanuary 18, 2025\r\nÂ Â Â Â Â Â Â Â  Supporting theÂ Parkinsonâ€
 ™s Disease Comprehensive Care ClinicÂ atÂ Emory Udall Parkinsonâ€™s Di
 sease CenterÂ in Atlanta\r\nSo far we have a big prize of a Driving Ex
 pereince at the Porsche Experience Center in AtlantaÂ Click HereÂ and 
 a $500 Gift Certificate fromÂ Coco Mats! And that is just a start! WOW
 !Â \r\n\r\nHELP US MEET OUR GOAL OF $5k FOR EMORYÂ \n\nFor more inform
 ation visit https://www.southeastwheelsevents.com/events/how-to-play-d
 rive-toward-a-cure-for-parkinson-s-poker-run-lithia-
DTSTART;TZID=Pacific/Midway:20250118T090000
DTEND;TZID=Pacific/Midway:20250118T170000
CATEGORIES:car, show, cruise, poker, run, benefit
LOCATION:Start at Streetside Classics
WEBSITE:https://www.drivetowardacure.org/day/pokerrun2025
URL:https://www.drivetowardacure.org/day/pokerrun2025
CONTACT:Mike at 770-883-0160
ORGANIZER:Drive Towards a Cure
ATTACH;FMTTYPE="image/jpeg":https://storage.ning.com/topology/rest/1.0
 /file/get/12296684485?profile=original
ATTENDEE;ROLE=REQ-PARTICIPANT;PARTSTAT=ACCEPTED;RSVP=TRUE;CN="Michael 
 Thies":https://www.southeastwheelsevents.com/profile/MichaelThies
END:VEVENT
END:VCALENDAR
