BEGIN:VCALENDAR
PRODID:NingEventWidget-v1
VERSION:2.0
METHOD:PUBLISH
BEGIN:VTIMEZONE
TZID:Pacific/Midway
X-LIC-LOCATION:Pacific/Midway
BEGIN:STANDARD
TZOFFSETFROM:-1100
TZOFFSETTO:-1100
TZNAME:SST
DTSTART:19700101T000000
END:STANDARD
END:VTIMEZONE
BEGIN:VEVENT
UID:5072275:Event:1010478
DTSTAMP:20260422T201436Z
SUMMARY:HOWARD JOHNSON OF BAINBRIDGE  CRUISE INN/CAR SHOW WEEKEND BAIN
 BRIDGE GA
DESCRIPTION:I would like to invite all streetroders, classic car owner
 s, or any custom car/truck owners and enthusiasts, no matter what year
 /make/model to Bainbridge GA. Friday evening 9-23 thru 9-25-2016 to co
 me to the Howard Johnson/formerly known as The Charter House Inn (1401
  Tallahassee Hwy Bainbridge Ga,). We will be holding our first annual 
 classic car show/cruise inn weekend. The festivities will kick off Fri
 day evening, and later that night in the Landing bar and grill, ...ins
 ide the hotel, there will be a live band singing the old tunes, with g
 reat food and drinks. RETRO ROOM RATES OF ONLY $40 FOR FRIDAY AND SATU
 RDAY NIGHT. Saturday will start with a breakfast for the participants 
 staying at the hotel, and a car show from 10am-4pm with a DJ spinning 
 tunes all day, and best of all NO ENTRY FEE!! NO ENTRY FEE!! Also on S
 aturday, there will be a pool party poolside. There will be plenty of 
 trailer parking, security, and a designated area for the car show part
 icipants to park their classics/custom cars and trucks without having 
 to worry. If anyone is interested in a very inexpensive weekend getawa
 y and loves hotrods, and custom cars and trucks, and would like to lis
 ten to some live music, or just wants to pull up and ice chest and a c
 hair, and hangout by their classic cars, we would love to have you. Th
 ere will be some people staying both nights, and there will some type 
 of afterparty Saturday evening/night. It's going to be a blast, with a
  very laid back cruise inn type of atmosphere. If you have any questio
 ns about this event call Jamie @ 229-254-0676, or you can call Shawn E
 dwards @ 229-246-8552 and register your car for the show or book your 
 room. Thanks and hope to see you there\n\nFor more information visit h
 ttps://www.southeastwheelsevents.com/events/howard-johnson-of-bainbrid
 ge-cruise-inn-car-show-weekend
DTSTART;TZID=Pacific/Midway:20160923T180000
DTEND;TZID=Pacific/Midway:20160925T100000
CATEGORIES:cruise, "inn/car", show
LOCATION:Howard Johnson of Bainbridge Ga.
WEBSITE:
URL:
CONTACT:229-254-0676
ORGANIZER;CN="James Elkins":https://www.southeastwheelsevents.com/prof
 ile/JamesElkins
ATTACH;FMTTYPE="image/jpeg":http://storage.ning.com/topology/rest/1.0/
 file/get/967713582?profile=original
ATTENDEE;ROLE=REQ-PARTICIPANT;PARTSTAT=ACCEPTED;RSVP=TRUE;CN="James El
 kins":https://www.southeastwheelsevents.com/profile/JamesElkins
END:VEVENT
END:VCALENDAR
