BEGIN:VCALENDAR
PRODID:NingEventWidget-v1
VERSION:2.0
METHOD:PUBLISH
BEGIN:VTIMEZONE
TZID:Pacific/Midway
X-LIC-LOCATION:Pacific/Midway
BEGIN:STANDARD
TZOFFSETFROM:-1100
TZOFFSETTO:-1100
TZNAME:SST
DTSTART:19700101T000000
END:STANDARD
END:VTIMEZONE
BEGIN:VEVENT
UID:5072275:Event:1188665
DTSTAMP:20260424T105231Z
SUMMARY:HUNTSVILLE CAVE RESCUE UNIT CAR SHOW AND SWAP MEET
DESCRIPTION:Cars â€¢ Trucks â€¢ Bikes â€¢ Rat RodsLocation: Monte Sano
  State Park Picnic Area (in the shade!)Registration: 8:00am-12:00pmAwa
 rds: 1:00pmCost: $20 per entry (this includes the $5 park entry fee)Aw
 ards: Peopleâ€™s Choice for Top 20, Best Paint, Best Interior, Best of
  Show. For more information & preregistration call:Brian Bailey: 256â€
 ¢509â€¢4785\n\nFor more information visit https://www.southeastwheelse
 vents.com/events/huntsville-cave-rescue-unit-car-show-and-swap-meet
DTSTART;TZID=Pacific/Midway:20200627T080000
DTEND;TZID=Pacific/Midway:20200627T133000
CATEGORIES:benefit, car, show, and, swap, meet
LOCATION:MONTE SANO STATE PARK
WEBSITE:
URL:
CONTACT:
ORGANIZER:HUNTSVILLE CAVE RESCUE UNIT INC
ATTACH;FMTTYPE="image/jpeg":https://storage.ning.com/topology/rest/1.0
 /file/get/3862893292?profile=original
ATTENDEE;ROLE=REQ-PARTICIPANT;PARTSTAT=TENTATIVE;RSVP=TRUE;CN="Jeffrey
  Rutherford":https://www.southeastwheelsevents.com/profile/JeffreyRuth
 erford866
END:VEVENT
END:VCALENDAR
