BEGIN:VCALENDAR
PRODID:NingEventWidget-v1
VERSION:2.0
METHOD:PUBLISH
BEGIN:VTIMEZONE
TZID:Pacific/Midway
X-LIC-LOCATION:Pacific/Midway
BEGIN:STANDARD
TZOFFSETFROM:-1100
TZOFFSETTO:-1100
TZNAME:SST
DTSTART:19700101T000000
END:STANDARD
END:VTIMEZONE
BEGIN:VEVENT
UID:5072275:Event:530557
DTSTAMP:20260420T124620Z
SUMMARY:Huntsville Cruise In and Swap Meet  -Huntsville, AL.
DESCRIPTION:We will be having a cruise in and swap meet every third Sa
 turday of each month all summer .   Come out show Your ride and buy, 
 sell and trade .   \n\nFor more information visit https://www.southe
 astwheelsevents.com/events/huntsville-cruise-in-and-swap-meet-huntsvil
 le-al-2
DTSTART;TZID=Pacific/Midway:20121020T000000
DTEND;TZID=Pacific/Midway:20121020T235900
CATEGORIES:cruise, in, "/", swap, meet
LOCATION:Jeff's Muffler and Brakes
WEBSITE:http://theoriginalpoorboys.com/alabamachapter.html
URL:http://theoriginalpoorboys.com/alabamachapter.html
CONTACT:
ORGANIZER:Poor Boys C.C. Alabama
ATTACH;FMTTYPE="image/jpeg":http://storage.ning.com/topology/rest/1.0/
 file/get/967616468?profile=original
ATTENDEE;ROLE=REQ-PARTICIPANT;PARTSTAT=ACCEPTED;RSVP=TRUE;CN="Jack Tho
 mas":https://www.southeastwheelsevents.com/profile/JackThomas
END:VEVENT
END:VCALENDAR
