BEGIN:VCALENDAR
PRODID:NingEventWidget-v1
VERSION:2.0
METHOD:PUBLISH
BEGIN:VTIMEZONE
TZID:Pacific/Midway
X-LIC-LOCATION:Pacific/Midway
BEGIN:STANDARD
TZOFFSETFROM:-1100
TZOFFSETTO:-1100
TZNAME:SST
DTSTART:19700101T000000
END:STANDARD
END:VTIMEZONE
BEGIN:VEVENT
UID:5072275:Event:1140227
DTSTAMP:20260419T232939Z
SUMMARY:\"I'm SICK of Winter\" Sweetheart Cruise-in, Tucker, GA
DESCRIPTION:Are you ready to get you \"Baby\" out of the garage? Well 
 we are too! This is our 5th Annual \"I'm SICK of Winter\" Sweetheart C
 ruise-in! We have moved the show this year (due to redevelopment at ou
 t old place) to Colossus Pizza in Tucker. They have a large parking lo
 t and 2 patio areas with garage doors and great Pizza, Greek Dishes an
 d even burgers and sandwiches, making for a perfect place for our show
 !\r\nAll YEARS - MAKES - MODELS Welcome! Popular Choice Awards, Door P
 rizes, 50/50 Raffle and MORE!\r\nEntry Fee is a Donation to support Br
 east Cancer Research and Treatment.\r\nCar Clubs and Spectators welcom
 e!\r\nRain (or Snow) Date: 2/16/19\r\n\n\nFor more information visit h
 ttps://www.southeastwheelsevents.com/events/i-m-sick-of-winter-sweethe
 art-cruise-in-tucker-ga-2
DTSTART;TZID=Pacific/Midway:20190209T110000
DTEND;TZID=Pacific/Midway:20190209T150000
CATEGORIES:car, show, charity, fundraiser
LOCATION:Colossus Pizza (Staples Shopping Center)
WEBSITE:http://www.GeorgiaCoolCruisers.org
URL:http://www.GeorgiaCoolCruisers.org
CONTACT:404-732-6842
ORGANIZER;CN="Rick Ellis":https://www.southeastwheelsevents.com/profil
 e/RickEllis
ATTACH;FMTTYPE="image/jpeg":https://storage.ning.com/topology/rest/1.0
 /file/get/788984816?profile=original
ATTENDEE;ROLE=REQ-PARTICIPANT;PARTSTAT=ACCEPTED;RSVP=TRUE;CN="Myron (C
 hris) Christopherson":https://www.southeastwheelsevents.com/profile/My
 ronChrisChristopherson
ATTENDEE;ROLE=REQ-PARTICIPANT;PARTSTAT=ACCEPTED;RSVP=TRUE;CN="Rick Ell
 is":https://www.southeastwheelsevents.com/profile/RickEllis
ATTENDEE;ROLE=REQ-PARTICIPANT;PARTSTAT=TENTATIVE;RSVP=TRUE;CN="Chuck A
 aron":https://www.southeastwheelsevents.com/profile/ChuckAaron886
ATTENDEE;ROLE=REQ-PARTICIPANT;PARTSTAT=TENTATIVE;RSVP=TRUE;CN="Al Geph
 art":https://www.southeastwheelsevents.com/profile/AlGephart
ATTENDEE;ROLE=REQ-PARTICIPANT;PARTSTAT=TENTATIVE;RSVP=TRUE;CN="Jeffrey
  Rutherford":https://www.southeastwheelsevents.com/profile/JeffreyRuth
 erford866
END:VEVENT
END:VCALENDAR
