BEGIN:VCALENDAR
PRODID:NingEventWidget-v1
VERSION:2.0
METHOD:PUBLISH
BEGIN:VTIMEZONE
TZID:Pacific/Midway
X-LIC-LOCATION:Pacific/Midway
BEGIN:STANDARD
TZOFFSETFROM:-1100
TZOFFSETTO:-1100
TZNAME:SST
DTSTART:19700101T000000
END:STANDARD
END:VTIMEZONE
BEGIN:VEVENT
UID:5072275:Event:1077000
DTSTAMP:20260424T041020Z
SUMMARY:ImportAlliance Spring Meet 2018 -Hampton, Ga
DESCRIPTION:ImportAlliance Spring Meet 2018 at Atlanta Motor Speedway\
 r\n\r\nThis is our 10th year in Atlanta and we are expecting a huge tu
 rnout. Once again the beautiful Atlanta Motor Speedway will host the e
 vent, and this year will be bigger than ever. Last year's Spring Meet 
 was the largest ImportAlliance event ever. We had over 10,000 cars and
  thousands more people in attendance. This year is our 13th year of op
 erations and of course we have to do our best to make it even better t
 han last year, so we are adding to the programming and expecting recor
 d setting cars and people. We will have the ImportAlliance Drift-O-Ra
 ma, the ImportAlliance Showcase, Formula D driver ride alongs, and the
  Spring Meet will feature the ImportAlliance Super Showcase. Plan on j
 oining us for the largest all import car meet in the United States. We
  guarantee you don't want to miss it. go to our website for more info.
  http://importalliance.org/IA Showcase registration - Taking applicat
 ions on our website\n\nFor more information visit https://www.southeas
 twheelsevents.com/events/importalliance-spring-meet-2018-hampton-ga
DTSTART;TZID=Pacific/Midway:20180224T070000
DTEND;TZID=Pacific/Midway:20180224T180000
CATEGORIES:car, show, meet, up, festival
LOCATION:Atlanta Motor Speedway
WEBSITE:https://www.facebook.com/events/551171265221688/
URL:https://www.facebook.com/events/551171265221688/
CONTACT:
ORGANIZER:ImportAlliance
ATTACH;FMTTYPE="image/jpeg":http://storage.ning.com/topology/rest/1.0/
 file/get/967757407?profile=original
ATTENDEE;ROLE=REQ-PARTICIPANT;PARTSTAT=ACCEPTED;RSVP=TRUE;CN="Chuck Aa
 ron":https://www.southeastwheelsevents.com/profile/ChuckAaron886
END:VEVENT
END:VCALENDAR
