BEGIN:VCALENDAR
PRODID:NingEventWidget-v1
VERSION:2.0
METHOD:PUBLISH
BEGIN:VTIMEZONE
TZID:Pacific/Midway
X-LIC-LOCATION:Pacific/Midway
BEGIN:STANDARD
TZOFFSETFROM:-1100
TZOFFSETTO:-1100
TZNAME:SST
DTSTART:19700101T000000
END:STANDARD
END:VTIMEZONE
BEGIN:VEVENT
UID:5072275:Event:606751
DTSTAMP:20260419T084238Z
SUMMARY:In Store Silent Auction
DESCRIPTION:\nSaturday, January 5th – Sunday, January 6th: In Store 
 Silent Auction.  Come to Killer Creek Harley-Davidson to bid on some 
 of our most popular Parts, Accessories, MotorClothes® Merchandise, Se
 rvice and Labor.  The Silent Auction is held the first Saturday and S
 unday of each month during normal business hours.  Killer Creek Harl
 ey-Davidson is located at 11480 Alpharetta Highway, Roswell.  FMI cal
 l 770.777.1000 or visit www.killercreekharley.com. \n\n\nFor more inf
 ormation visit https://www.southeastwheelsevents.com/events/in-store-s
 ilent-auction-1
DTSTART;TZID=Pacific/Midway:20130105T100000
DTEND;TZID=Pacific/Midway:20130106T180000
CATEGORIES:"informational/social"
LOCATION:Killer Creek Harley Davidson
WEBSITE:http://www.killercreekharley.com
URL:http://www.killercreekharley.com
CONTACT:770-777-1000
ORGANIZER:Ari Bromley
ATTACH;FMTTYPE="image/jpeg":
ATTENDEE;ROLE=REQ-PARTICIPANT;PARTSTAT=ACCEPTED;RSVP=TRUE;CN="Ari Brom
 ley":https://www.southeastwheelsevents.com/profile/MandiHarris
END:VEVENT
END:VCALENDAR
