BEGIN:VCALENDAR
PRODID:NingEventWidget-v1
VERSION:2.0
METHOD:PUBLISH
BEGIN:VTIMEZONE
TZID:Pacific/Midway
X-LIC-LOCATION:Pacific/Midway
BEGIN:STANDARD
TZOFFSETFROM:-1100
TZOFFSETTO:-1100
TZNAME:SST
DTSTART:19700101T000000
END:STANDARD
END:VTIMEZONE
BEGIN:VEVENT
UID:5072275:Event:473981
DTSTAMP:20260420T145646Z
SUMMARY:In Store Silent Auction -Roswell, GA
DESCRIPTION:In Store Silent Auction.  Come to Killer Creek Harley-Dav
 idson to bid on some of our most popular Parts, Accessories, MotorClot
 hes® Merchandise, Service and Labor.  We’ll have a bike in the auc
 tion too!  The Silent Auction is held the first Saturday and Sunday o
 f each month during normal business hours.  Killer Creek Harley-David
 son is located at 11480 Alpharetta Highway, Roswell.  FMI call 770.77
 7.1000 or visit www.killercreekharley.com. \n\nFor more information v
 isit https://www.southeastwheelsevents.com/events/in-store-silent-auct
 ion
DTSTART;TZID=Pacific/Midway:20120505T000000
DTEND;TZID=Pacific/Midway:20120506T235900
CATEGORIES:silent, auction
LOCATION:Killer Creek Harley-Davidson
WEBSITE:http://www.killercreekharley.com
URL:http://www.killercreekharley.com
CONTACT:770-777-1000
ORGANIZER;CN="Ari Bromley":https://www.southeastwheelsevents.com/profi
 le/MandiHarris
ATTACH;FMTTYPE="image/jpeg":http://storage.ning.com/topology/rest/1.0/
 file/get/967603864?profile=original
ATTENDEE;ROLE=REQ-PARTICIPANT;PARTSTAT=ACCEPTED;RSVP=TRUE;CN="Ari Brom
 ley":https://www.southeastwheelsevents.com/profile/MandiHarris
END:VEVENT
END:VCALENDAR
