BEGIN:VCALENDAR
PRODID:NingEventWidget-v1
VERSION:2.0
METHOD:PUBLISH
BEGIN:VTIMEZONE
TZID:Pacific/Midway
X-LIC-LOCATION:Pacific/Midway
BEGIN:STANDARD
TZOFFSETFROM:-1100
TZOFFSETTO:-1100
TZNAME:SST
DTSTART:19700101T000000
END:STANDARD
END:VTIMEZONE
BEGIN:VEVENT
UID:5072275:Event:705643
DTSTAMP:20260424T140156Z
SUMMARY:Indian Summer Festival Car Show -Pocolet,SC
DESCRIPTION:Indian Summer Festival Car Show -Pocolet,SC\n\nFor more in
 formation visit https://www.southeastwheelsevents.com/events/indian-fe
 stival-car-show-pocolet-sc
DTSTART;TZID=Pacific/Midway:20151017T080000
DTEND;TZID=Pacific/Midway:20151017T160000
CATEGORIES:car-show
LOCATION:Bottom of Hotel Hill
WEBSITE:
URL:
CONTACT:865-398-0751
ORGANIZER:Indian Summer Festival
ATTACH;FMTTYPE="image/jpeg":
ATTENDEE;ROLE=REQ-PARTICIPANT;PARTSTAT=ACCEPTED;RSVP=TRUE;CN="Jack Tho
 mas":https://www.southeastwheelsevents.com/profile/JackThomas
END:VEVENT
END:VCALENDAR
