BEGIN:VCALENDAR
PRODID:NingEventWidget-v1
VERSION:2.0
METHOD:PUBLISH
BEGIN:VTIMEZONE
TZID:Pacific/Midway
X-LIC-LOCATION:Pacific/Midway
BEGIN:STANDARD
TZOFFSETFROM:-1100
TZOFFSETTO:-1100
TZNAME:SST
DTSTART:19700101T000000
END:STANDARD
END:VTIMEZONE
BEGIN:VEVENT
UID:5072275:Event:12215
DTSTAMP:20260424T160524Z
SUMMARY:INDY GRAND PRIX OF ALABAMA -Birmingham, AL
DESCRIPTION:INDY GRAND PRIX OF ALABAMA April 9-11 at Barber Motorsport
 s Park, Birmingham Alabama\n\nFriday: 8am - 5pm: Qualifying - Grand AM
  Rolex Series\nPractice - Firestone Indy Lights and IndyCar\nSaturday:
 8am:Practice and Qualifying - Firestone Indy Lights and Indy Car\n12:3
 0pmThe Porsche 250 (Rolex Series Daytona Prototypes and GT)\n3:30pmCon
 tinental Tire Challenge (Grand-AM Race)\nSunday: 8am:Practice - Firest
 one Indy Lights and IndyCar\n12pmFirestone Indy Lights Race\n2pmIndyCa
 r Race\n\nClick here for full schedule\n\nBarber Motorsports Park open
  7:30am-5pm each day. Schedule subject to change.\nCameras, lawn chair
 s, blankets and coolers (no glass) are welcomed. Concessions are avail
 able.\nRide the tram. Trams are provided so you can move easily (and f
 reely, its free) around the park.\nKids 12 & under admitted free with 
 a ticketed adult.\nBarber Motorsports Museum open 10am-6pm, Sunday 12p
 m-6pm. (Tickets available at Museum entrance)\nThe largest & most amaz
 ing collection in the US.\n\nFor more information visit https://www.so
 utheastwheelsevents.com/events/indy-grand-prix-of-alabama-1
DTSTART;TZID=Pacific/Midway:20100409T000000
DTEND;TZID=Pacific/Midway:20100411T235900
CATEGORIES:races, museum
LOCATION:Barber Motorsports Park
WEBSITE:http://www.barbermotorsports.com/indy-grand-prix-event.php
URL:http://www.barbermotorsports.com/indy-grand-prix-event.php
CONTACT:(800) 240-2300 or (205) 327-RACE
ORGANIZER:Barber Motorsports
ATTACH;FMTTYPE="image/jpeg":http://storage.ning.com/topology/rest/1.0/
 file/get/967572050?profile=original
ATTENDEE;ROLE=REQ-PARTICIPANT;PARTSTAT=TENTATIVE;RSVP=TRUE;CN="Michael
  Thies":https://www.southeastwheelsevents.com/profile/MichaelThies
END:VEVENT
END:VCALENDAR
