BEGIN:VCALENDAR
PRODID:NingEventWidget-v1
VERSION:2.0
METHOD:PUBLISH
BEGIN:VTIMEZONE
TZID:Pacific/Midway
X-LIC-LOCATION:Pacific/Midway
BEGIN:STANDARD
TZOFFSETFROM:-1100
TZOFFSETTO:-1100
TZNAME:SST
DTSTART:19700101T000000
END:STANDARD
END:VTIMEZONE
BEGIN:VEVENT
UID:5072275:Event:1064341
DTSTAMP:20260421T065907Z
SUMMARY:JCNA International Jaguar Festival
DESCRIPTION:The North Georgia Jaguar Club will host the annual Jaguar 
 Club Festival for all 65 clubs in North America. It will bring togethe
 r the best Jaguars in North America for a three day event. We have reg
 istrants from across the U.S. and Canada.\nAdmission to the show is f
 ree, tell the gate you are guest of the Jaguar Club and be admitted to
  the Islands free of charge.\n\nFor more information visit https://www
 .southeastwheelsevents.com/events/jcna-international-jaguar-festival
DTSTART;TZID=Pacific/Midway:20171012T000000
DTEND;TZID=Pacific/Midway:20171014T235900
CATEGORIES:slalom, rally, and, concours
LOCATION:Lake Lanier Islands
WEBSITE:http://www.jcnaijf.com
URL:http://www.jcnaijf.com
CONTACT:
ORGANIZER;CN="John Hoffman":https://www.southeastwheelsevents.com/prof
 ile/JohnHoffman
ATTACH;FMTTYPE="image/jpeg":http://storage.ning.com/topology/rest/1.0/
 file/get/967753378?profile=original
ATTENDEE;ROLE=REQ-PARTICIPANT;PARTSTAT=ACCEPTED;RSVP=TRUE;CN="John Hof
 fman":https://www.southeastwheelsevents.com/profile/JohnHoffman
END:VEVENT
END:VCALENDAR
