BEGIN:VCALENDAR
PRODID:NingEventWidget-v1
VERSION:2.0
METHOD:PUBLISH
BEGIN:VTIMEZONE
TZID:Pacific/Midway
X-LIC-LOCATION:Pacific/Midway
BEGIN:STANDARD
TZOFFSETFROM:-1100
TZOFFSETTO:-1100
TZNAME:SST
DTSTART:19700101T000000
END:STANDARD
END:VTIMEZONE
BEGIN:VEVENT
UID:5072275:Event:757772
DTSTAMP:20260419T043428Z
SUMMARY:Jeep Night @ Seneca Family Restaurant , Seneca , SC
DESCRIPTION:Cruise-in for Jeeps , 2nd Saturday April - October , Music
  , 50/50 , door prizes .Â Come join us for some fun and good food tooÂ
  .\n\nFor more information visit https://www.southeastwheelsevents.com
 /events/jeep-night-seneca-family-restaurant-seneca-sc-6
DTSTART;TZID=Pacific/Midway:20141011T170000
DTEND;TZID=Pacific/Midway:20141011T210000
CATEGORIES:jeep, cruise-in
LOCATION:Seneca Family Restaurant
WEBSITE:
URL:
CONTACT:Donnie @ 864-710-0035 or Sue @ 864-247-8816
ORGANIZER:Donnie \"Big un\" White
ATTACH;FMTTYPE="image/jpeg":http://storage.ning.com/topology/rest/1.0/
 file/get/967654614?profile=original
ATTENDEE;ROLE=REQ-PARTICIPANT;PARTSTAT=ACCEPTED;RSVP=TRUE;CN="Sue King
 ":https://www.southeastwheelsevents.com/profile/SueKing
END:VEVENT
END:VCALENDAR
