BEGIN:VCALENDAR
PRODID:NingEventWidget-v1
VERSION:2.0
METHOD:PUBLISH
BEGIN:VTIMEZONE
TZID:Pacific/Midway
X-LIC-LOCATION:Pacific/Midway
BEGIN:STANDARD
TZOFFSETFROM:-1100
TZOFFSETTO:-1100
TZNAME:SST
DTSTART:19700101T000000
END:STANDARD
END:VTIMEZONE
BEGIN:VEVENT
UID:5072275:Event:480743
DTSTAMP:20260424T111010Z
SUMMARY:JERSEY COMMUI CHURCH SPRING FLING -JERSEY, GA
DESCRIPTION:CAR SHOW 11-3 MUSIC 11- UNTIL COME OUT AND ENJOY THE DAY 
  WITH SOME GOOD OLE FASHION FUN\n\nFor more information visit https://
 www.southeastwheelsevents.com/events/jersey-commui-church-spring-fling
DTSTART;TZID=Pacific/Midway:20120505T110000
DTEND;TZID=Pacific/Midway:20120505T150000
CATEGORIES:festival
LOCATION:JERSEY GA
WEBSITE:
URL:
CONTACT:678-462-2728 OR 770-601-1031
ORGANIZER:belinda peters/dave bradberry
ATTACH;FMTTYPE="image/jpeg":
ATTENDEE;ROLE=REQ-PARTICIPANT;PARTSTAT=ACCEPTED;RSVP=TRUE;CN="belinda 
 peters":https://www.southeastwheelsevents.com/profile/belindapeters188
END:VEVENT
END:VCALENDAR
