BEGIN:VCALENDAR
PRODID:NingEventWidget-v1
VERSION:2.0
METHOD:PUBLISH
BEGIN:VTIMEZONE
TZID:Pacific/Midway
X-LIC-LOCATION:Pacific/Midway
BEGIN:STANDARD
TZOFFSETFROM:-1100
TZOFFSETTO:-1100
TZNAME:SST
DTSTART:19700101T000000
END:STANDARD
END:VTIMEZONE
BEGIN:VEVENT
UID:5072275:Event:29744
DTSTAMP:20260419T145216Z
SUMMARY:Jersey's Woodstock Car Show -Woodstock, GA
DESCRIPTION:Please join us on Sat. June 12, 2010 to help the Sandy Pla
 ins Prowlers 11 year old baseball team raise money to go to Cooperstow
 n NY \"Baseball Hall of Fame\". There will be plenty of trophies, raff
 le prizes, and 50/50. Hope to see you all there.\n\nFor more informati
 on visit https://www.southeastwheelsevents.com/events/jerseys-woodstoc
 k-car-show
DTSTART;TZID=Pacific/Midway:20100612T100000
DTEND;TZID=Pacific/Midway:20100612T140000
CATEGORIES:car, show
LOCATION:Jersey's Sports Bar (Woodstock/Town Lake Area)
WEBSITE:http://maps.google.com/maps?hl=en&rlz=1G1GGLQ_ENUS338&um=1&ie=
 UTF-8&cid=0,0,6646156991976790133&fb=1&hq=jersey's+bar+and+grill&hnear
 =Woodstock,+GA&gl=us&daddr=6426+Bells+Ferry+Rd+%23+160,+Woodstock,+GA+
 30189-8271&geocode=2615207925941910742,34.129142,-84.585114&ei=wwAPTNe
 KEISClAfJkcFs&sa=X&oi=local_result&ct=directions-to&resnum=1&ved=0CBUQ
 ngIwAA
URL:http://maps.google.com/maps?hl=en&rlz=1G1GGLQ_ENUS338&um=1&ie=UTF-
 8&cid=0,0,6646156991976790133&fb=1&hq=jersey's+bar+and+grill&hnear=Woo
 dstock,+GA&gl=us&daddr=6426+Bells+Ferry+Rd+%23+160,+Woodstock,+GA+3018
 9-8271&geocode=2615207925941910742,34.129142,-84.585114&ei=wwAPTNeKEIS
 ClAfJkcFs&sa=X&oi=local_result&ct=directions-to&resnum=1&ved=0CBUQngIw
 AA
CONTACT:404-384-9304
ORGANIZER;CN="jamie cole":https://www.southeastwheelsevents.com/profil
 e/jamiecole
ATTACH;FMTTYPE="image/jpeg":http://storage.ning.com/topology/rest/1.0/
 file/get/967574037?profile=original
ATTENDEE;ROLE=REQ-PARTICIPANT;PARTSTAT=ACCEPTED;RSVP=TRUE;CN="jamie co
 le":https://www.southeastwheelsevents.com/profile/jamiecole
END:VEVENT
END:VCALENDAR
