BEGIN:VCALENDAR
PRODID:NingEventWidget-v1
VERSION:2.0
METHOD:PUBLISH
BEGIN:VTIMEZONE
TZID:Pacific/Midway
X-LIC-LOCATION:Pacific/Midway
BEGIN:STANDARD
TZOFFSETFROM:-1100
TZOFFSETTO:-1100
TZNAME:SST
DTSTART:19700101T000000
END:STANDARD
END:VTIMEZONE
BEGIN:VEVENT
UID:5072275:Event:169862
DTSTAMP:20260420T180311Z
SUMMARY:Jim Metts Memorial Car Show Hosted by Evans Lions Club -Evans,
  GA
DESCRIPTION:All proceeds go to local charities. Open to all cars! Come
  out for fun in the sun! Good food, Good fun, Good people, Great Award
 s!\nTop Ten trophies, Best in Show, Best Paint, Best Interior, Best En
 gine, and President Award!\n50/50 Raffle\nGoodie Bags for all entries!
 \n$20.00 Advanced Registration\n$25.00 Day of Registration\nThere will
  be a Police Escorted Motorcade before the event!\n \nContact me if y
 ou want more Details!\nI can email anybody flyers and registrations fo
 r the show!\n\nFor more information visit https://www.southeastwheelse
 vents.com/events/jim-metts-memorial-car-show
DTSTART;TZID=Pacific/Midway:20110416T090000
DTEND;TZID=Pacific/Midway:20110416T150000
CATEGORIES:car, show
LOCATION:Wesley United Methodist
WEBSITE:
URL:
CONTACT:706-691-7567
ORGANIZER;CN="Alyson Frey":https://www.southeastwheelsevents.com/profi
 le/AlysonFrey
ATTACH;FMTTYPE="image/jpeg":http://storage.ning.com/topology/rest/1.0/
 file/get/967592750?profile=original
ATTENDEE;ROLE=REQ-PARTICIPANT;PARTSTAT=ACCEPTED;RSVP=TRUE;CN="Alyson F
 rey":https://www.southeastwheelsevents.com/profile/AlysonFrey
END:VEVENT
END:VCALENDAR
