BEGIN:VCALENDAR
PRODID:NingEventWidget-v1
VERSION:2.0
METHOD:PUBLISH
BEGIN:VTIMEZONE
TZID:Pacific/Midway
X-LIC-LOCATION:Pacific/Midway
BEGIN:STANDARD
TZOFFSETFROM:-1100
TZOFFSETTO:-1100
TZNAME:SST
DTSTART:19700101T000000
END:STANDARD
END:VTIMEZONE
BEGIN:VEVENT
UID:5072275:Event:1018132
DTSTAMP:20260422T214310Z
SUMMARY:Jim Tidwell Ford Toys For Tots Car Show -Kennesaw, GA
DESCRIPTION:Jim Tidwell Ford Toys For Tots Car Show\n\n\n Jim Tidwell
  Ford\n\n\n\n\n2205 Barrett Lakes Blvd\nKennesaw, GKennesaw, Georgia
  30144\nUnited States\n\n\n\n\n\n\n\n\n\n\n\nDescription:\nToys For T
 ots Car Show will happen at Jim Tidwell Ford. Event starts at 10am and
  ends at 4pm\nWebsite:\n\nhttp://www.garmc.net/club-events/?pno=3\n\n\
 n\n\nFor more information visit https://www.southeastwheelsevents.com/
 events/jim-tidwell-ford-toys-for-tots-car-show-kennesaw-ga
DTSTART;TZID=Pacific/Midway:20161105T100000
DTEND;TZID=Pacific/Midway:20161105T160000
CATEGORIES:car-show, fundraiser
LOCATION:Jim Tidwell Ford
WEBSITE:http://www.garmc.net/club-events/?pno=3
URL:http://www.garmc.net/club-events/?pno=3
CONTACT:
ORGANIZER:JimTidwell Ford
ATTACH;FMTTYPE="image/jpeg":http://storage.ning.com/topology/rest/1.0/
 file/get/967714981?profile=original
ATTENDEE;ROLE=REQ-PARTICIPANT;PARTSTAT=ACCEPTED;RSVP=TRUE;CN="Chuck Aa
 ron":https://www.southeastwheelsevents.com/profile/ChuckAaron886
END:VEVENT
END:VCALENDAR
