BEGIN:VCALENDAR
PRODID:NingEventWidget-v1
VERSION:2.0
METHOD:PUBLISH
BEGIN:VTIMEZONE
TZID:Pacific/Midway
X-LIC-LOCATION:Pacific/Midway
BEGIN:STANDARD
TZOFFSETFROM:-1100
TZOFFSETTO:-1100
TZNAME:SST
DTSTART:19700101T000000
END:STANDARD
END:VTIMEZONE
BEGIN:VEVENT
UID:5072275:Event:476247
DTSTAMP:20260422T183447Z
SUMMARY:Jordan High School Champion Auto Show -Columbus, GA
DESCRIPTION:27th year of the Jordan High School Car Show. Car Show cur
 rently has 43 different classes.  Who said there are no car shows in 
 February! :-)\n\nFor more information visit https://www.southeastwheel
 sevents.com/events/jordan-high-school-champion-auto-show-columbus-ga
DTSTART;TZID=Pacific/Midway:20230225T080000
DTEND;TZID=Pacific/Midway:20230225T160000
CATEGORIES:fundraiser, car-show
LOCATION:Hollywood Connection
WEBSITE:
URL:
CONTACT:Robert 706.748.2819
ORGANIZER:Dawn Bolles and Robert Harris
ATTACH;FMTTYPE="image/jpeg":http://storage.ning.com/topology/rest/1.0/
 file/get/967608904?profile=original
ATTENDEE;ROLE=REQ-PARTICIPANT;PARTSTAT=ACCEPTED;RSVP=TRUE;CN="dbolles.
 0306":https://www.southeastwheelsevents.com/profile/dbolles0306
ATTENDEE;ROLE=REQ-PARTICIPANT;PARTSTAT=ACCEPTED;RSVP=TRUE;CN="Adam Rod
 riguez":https://www.southeastwheelsevents.com/profile/AdamRodriguez
ATTENDEE;ROLE=REQ-PARTICIPANT;PARTSTAT=ACCEPTED;RSVP=TRUE;CN="Chuck Aa
 ron":https://www.southeastwheelsevents.com/profile/ChuckAaron886
ATTENDEE;ROLE=REQ-PARTICIPANT;PARTSTAT=TENTATIVE;RSVP=TRUE;CN="Barry S
 mith":https://www.southeastwheelsevents.com/profile/BarrySmith
END:VEVENT
END:VCALENDAR
