BEGIN:VCALENDAR
PRODID:NingEventWidget-v1
VERSION:2.0
METHOD:PUBLISH
BEGIN:VTIMEZONE
TZID:Pacific/Midway
X-LIC-LOCATION:Pacific/Midway
BEGIN:STANDARD
TZOFFSETFROM:-1100
TZOFFSETTO:-1100
TZNAME:SST
DTSTART:19700101T000000
END:STANDARD
END:VTIMEZONE
BEGIN:VEVENT
UID:5072275:Event:1222935
DTSTAMP:20260422T011350Z
SUMMARY:Jordan Vocational H.S. Champion Auto Show.
DESCRIPTION:1683 \n\nFor more information visit https://www.southeast
 wheelsevents.com/events/jordan-vocational-h-s-champion-auto-show
DTSTART;TZID=Pacific/Midway:20210227T080000
DTEND;TZID=Pacific/Midway:20210227T140000
CATEGORIES:benefit, car, show
LOCATION:HollyWood Connection
WEBSITE:
URL:
CONTACT:
ORGANIZER:Robert Hardee
ATTACH;FMTTYPE="image/jpeg":
ATTENDEE;ROLE=REQ-PARTICIPANT;PARTSTAT=TENTATIVE;RSVP=TRUE;CN="Bill Da
 vis":https://www.southeastwheelsevents.com/profile/BillDavis
ATTENDEE;ROLE=REQ-PARTICIPANT;PARTSTAT=TENTATIVE;RSVP=TRUE;CN="Jeffrey
  Rutherford":https://www.southeastwheelsevents.com/profile/JeffreyRuth
 erford866
END:VEVENT
END:VCALENDAR
