BEGIN:VCALENDAR
PRODID:NingEventWidget-v1
VERSION:2.0
METHOD:PUBLISH
BEGIN:VTIMEZONE
TZID:Pacific/Midway
X-LIC-LOCATION:Pacific/Midway
BEGIN:STANDARD
TZOFFSETFROM:-1100
TZOFFSETTO:-1100
TZNAME:SST
DTSTART:19700101T000000
END:STANDARD
END:VTIMEZONE
BEGIN:VEVENT
UID:5072275:Event:880466
DTSTAMP:20260422T231525Z
SUMMARY:JUG TAVERN FESTIVAL Car & Tractor Show Winder, GA
DESCRIPTION:JUG TAVERN Car & Tractor Show on Saturday from 10:00 AM to
  4:00 PM. Â Hosted by Dixie Cruisers Car Club.Â  There will be Commemo
 rative Trophies,Â 50/50, Door Prizes and MusicÂ a Plenty from our DJ.Â
   Entrance Fee is $20.00 - Tractors Free.Â Â \nMore Car Show Info: dix
 iecruisers.com\nFestival Activities: Cornhole Tournament, Concert Frid
 ay and Saturday Nite.Â  Great Food, Arts & Crafts.Â  More info: jugtav
 ernfestival.com\n\n\nFor more information visit https://www.southeastw
 heelsevents.com/events/jug-tavern-festival-car-tractor-show-winder-ga
DTSTART;TZID=Pacific/Midway:20150912T100000
DTEND;TZID=Pacific/Midway:20150912T160000
CATEGORIES:fundraiser
LOCATION:Downtown Winder, GA
WEBSITE:http://dixiecruisers.com
URL:http://dixiecruisers.com
CONTACT:770-307-2812
ORGANIZER:Contact Tom
ATTACH;FMTTYPE="image/jpeg":http://storage.ning.com/topology/rest/1.0/
 file/get/967681879?profile=original
ATTENDEE;ROLE=REQ-PARTICIPANT;PARTSTAT=ACCEPTED;RSVP=TRUE;CN="Randall 
 Carmichael":https://www.southeastwheelsevents.com/profile/RandallCarmi
 chael
ATTENDEE;ROLE=REQ-PARTICIPANT;PARTSTAT=TENTATIVE;RSVP=TRUE;CN="Bill mu
 sarra":https://www.southeastwheelsevents.com/profile/billmusarra
ATTENDEE;ROLE=REQ-PARTICIPANT;PARTSTAT=TENTATIVE;RSVP=TRUE;CN="John Ba
 ker":https://www.southeastwheelsevents.com/profile/JohnJBaker
ATTENDEE;ROLE=REQ-PARTICIPANT;PARTSTAT=TENTATIVE;RSVP=TRUE;CN="Terry B
 uhite":https://www.southeastwheelsevents.com/profile/TerryBuhite
ATTENDEE;ROLE=REQ-PARTICIPANT;PARTSTAT=TENTATIVE;RSVP=TRUE;CN="John Cu
 rtis Smith":https://www.southeastwheelsevents.com/profile/JohnCurtisSm
 ith
END:VEVENT
END:VCALENDAR
