BEGIN:VCALENDAR
PRODID:NingEventWidget-v1
VERSION:2.0
METHOD:PUBLISH
BEGIN:VTIMEZONE
TZID:Pacific/Midway
X-LIC-LOCATION:Pacific/Midway
BEGIN:STANDARD
TZOFFSETFROM:-1100
TZOFFSETTO:-1100
TZNAME:SST
DTSTART:19700101T000000
END:STANDARD
END:VTIMEZONE
BEGIN:VEVENT
UID:5072275:Event:757940
DTSTAMP:20260419T010051Z
SUMMARY:\"JUNE JALOPY JAM\"  -DALTON, GEORGIA
DESCRIPTION:The North Georgia Hotrods presents the \"JUNE JALOPY JAM\"
  ol skool hotrod show & swap meet, June 21th 2014, at the North Georgi
 a Fairgrounds 500 Legion dr. Dalton, Ga. 30722, traditional hotrods, k
 ustoms, rat rods, bobbers & choopers. Car show / swap meet space 25.00
 , admission 5.00ea. under 12 free. fun for the whole familey, live roc
 kabilly music info B.B. Brown 706-934-3437 email northgeorgiahotrods19
 34@yahoo.com\n\nFor more information visit https://www.southeastwheels
 events.com/events/june-jalopy-jam-dalton-georgia
DTSTART;TZID=Pacific/Midway:20140621T000000
DTEND;TZID=Pacific/Midway:20140621T235900
CATEGORIES:ol, skool, car, show, swap, meet
LOCATION:North Georgia Fairgrounds
WEBSITE:
URL:
CONTACT:706-934-3437
ORGANIZER;CN="Barry Brown":https://www.southeastwheelsevents.com/profi
 le/BarryBrown
ATTACH;FMTTYPE="image/jpeg":http://storage.ning.com/topology/rest/1.0/
 file/get/967657190?profile=original
ATTENDEE;ROLE=REQ-PARTICIPANT;PARTSTAT=ACCEPTED;RSVP=TRUE;CN="Chuck Aa
 ron":https://www.southeastwheelsevents.com/profile/ChuckAaron
ATTENDEE;ROLE=REQ-PARTICIPANT;PARTSTAT=ACCEPTED;RSVP=TRUE;CN="Barry Br
 own":https://www.southeastwheelsevents.com/profile/BarryBrown
END:VEVENT
END:VCALENDAR
