BEGIN:VCALENDAR
PRODID:NingEventWidget-v1
VERSION:2.0
METHOD:PUBLISH
BEGIN:VTIMEZONE
TZID:Pacific/Midway
X-LIC-LOCATION:Pacific/Midway
BEGIN:STANDARD
TZOFFSETFROM:-1100
TZOFFSETTO:-1100
TZNAME:SST
DTSTART:19700101T000000
END:STANDARD
END:VTIMEZONE
BEGIN:VEVENT
UID:5072275:Event:1025169
DTSTAMP:20260424T065237Z
SUMMARY:Kaffeekatsch at Jason's Deli
DESCRIPTION:Kaffeekatsch - Members of the Hurricane Region of the Pors
 che Club of America meet every Saturday morning at Jason's Deli in Bri
 er Creek Shopping Center between 8 am and 10 am. ​Come join us!\n\nF
 or more information visit https://www.southeastwheelsevents.com/events
 /kaffeekatsch-at-jason-s-deli
DTSTART;TZID=Pacific/Midway:20161217T080000
DTEND;TZID=Pacific/Midway:20161217T100000
CATEGORIES:cars, "clubs/shows/cruises"
LOCATION:Jason's Deli
WEBSITE:http://www.hurpca.com/calendar.html
URL:http://www.hurpca.com/calendar.html
CONTACT:
ORGANIZER:Hurricane Region PCA
ATTACH;FMTTYPE="image/jpeg":http://storage.ning.com/topology/rest/1.0/
 file/get/967716019?profile=original
ATTENDEE;ROLE=REQ-PARTICIPANT;PARTSTAT=ACCEPTED;RSVP=TRUE;CN="Chris go
 sney":https://www.southeastwheelsevents.com/profile/Chrisgosney
END:VEVENT
END:VCALENDAR
