BEGIN:VCALENDAR
PRODID:NingEventWidget-v1
VERSION:2.0
METHOD:PUBLISH
BEGIN:VTIMEZONE
TZID:Pacific/Midway
X-LIC-LOCATION:Pacific/Midway
BEGIN:STANDARD
TZOFFSETFROM:-1100
TZOFFSETTO:-1100
TZNAME:SST
DTSTART:19700101T000000
END:STANDARD
END:VTIMEZONE
BEGIN:VEVENT
UID:5072275:Event:1025161
DTSTAMP:20260420T100909Z
SUMMARY:Katie's Cars & Coffee
DESCRIPTION:Katie's Cars & Coffee starts at 6:30am and runs until abou
 t 9:00am, every Saturday year round, weather permitting. Starts: Vehic
 les begin filling up the front lot by 6:00am every Saturday. By 7:00am
 , the front lot is typically filled and incoming cars are redirected t
 o the side lot, then finally the rear lot. The premiere automotive ent
 husiast gathering attracting hundreds of exotics, antiques and classic
  vehicles weekly, Katie's is the place to be on Saturday mornings!\n\n
 For more information visit https://www.southeastwheelsevents.com/event
 s/katie-s-cars-coffee
DTSTART;TZID=Pacific/Midway:20161217T063000
DTEND;TZID=Pacific/Midway:20161217T090000
CATEGORIES:cars, "clubs/shows/cruises"
LOCATION:Katie's Coffee House
WEBSITE:http://katiescarsandcoffee.com/calendar/
URL:http://katiescarsandcoffee.com/calendar/
CONTACT:
ORGANIZER:Katie's Coffee House
ATTACH;FMTTYPE="image/jpeg":http://storage.ning.com/topology/rest/1.0/
 file/get/967717088?profile=original
ATTENDEE;ROLE=REQ-PARTICIPANT;PARTSTAT=ACCEPTED;RSVP=TRUE;CN="Chris go
 sney":https://www.southeastwheelsevents.com/profile/Chrisgosney
ATTENDEE;ROLE=REQ-PARTICIPANT;PARTSTAT=TENTATIVE;RSVP=TRUE;CN="Chuck A
 aron":https://www.southeastwheelsevents.com/profile/ChuckAaron886
END:VEVENT
END:VCALENDAR
