BEGIN:VCALENDAR
PRODID:NingEventWidget-v1
VERSION:2.0
METHOD:PUBLISH
BEGIN:VTIMEZONE
TZID:Pacific/Midway
X-LIC-LOCATION:Pacific/Midway
BEGIN:STANDARD
TZOFFSETFROM:-1100
TZOFFSETTO:-1100
TZNAME:SST
DTSTART:19700101T000000
END:STANDARD
END:VTIMEZONE
BEGIN:VEVENT
UID:5072275:Event:666042
DTSTAMP:20260419T092458Z
SUMMARY:KewlRides Presents Christmas In July - Alpharetta GA July 13, 
 2013
DESCRIPTION:Once again itâ€™s that time of year, you may have see the 
 flyers at some of the car show around town, time for the official Kewl
 Rides USMC Toys for Tots Christmas In July Toy Drive / Cruise In All V
 ehicle Show. This event has become a regular happening being the fourt
 h year it will be held, joining the Annual December USMC Toys for Tots
  Toy Drive / Car Show.Â Â \nKewlRides.org will host Christmas in July 
 on Saturday July 13th at Miller's Ale House in Alpharetta, Georgia at 
 the former Home Depot Parking Lot next to Samâ€™s Club.Â  This eventâ€
 ™s sole purpose is to collect Toys for the USMC 2013 Toy for Tots foun
 dation.As the host of the event, KewlRides opens this event to all Veh
 icle Marquees (any make of vehicle). We are hosting this event with th
 e idea that many cannot attend the event in December due to various re
 asons.Â  We of course will hold our annual USMC Toy for Tots on Decemb
 er 14th as usual, but we want to give the opportunity to more folks to
  be a part of this fantastic charity foundation.Â  This Toy Drive/ Cru
 ise In All Vehicle Show will be a people choice award show. Upon enter
 ing the parking area you will receive a numbered dash display and a vo
 ting sheet for Best in Show categories. This show will be from 12:00 (
 noon) through 3:00PM with trophies awarded at 2:30PM. Registration for
  the show is the same as Toys for Tots in December, a NEW UNWRAPPED TO
 Y or TOYS. So start up that KewlRide and head out to the Fourth Annual
  KewlRides Christmas in July Toys for Tots â€“Toy Drive / Cruise In Al
 l Vehicle Show for US Marine Corps. We will be there what is your excu
 se? KewlRides Toy Drive / Charity Car ShowSaturday Â July 13, 2013 - 1
 2:00 (noon) - 3:00 PMLocation: 1075 Davis Dr., Alpharetta, Georgia, 30
 004The 4th Annual Christmas in July - Toys for Tots Toy Drive / Charit
 y Cruise In Car Show for the US Marines Corps will be hosted by Kewlri
 des.org. As the host of the event, KewlRides has opened this event to 
 all vehicles. So bring that KewlRide to the show, entry is a NEW UNWRA
 PPED TOY collected as you drive in. We will be there, so come out have
  some fun while working for a great cause. For more information contac
 t Mark O Holte at rumrunner@kewlrides.org\nJoe DeGumbia at fops@kewlri
 des.org\nChris Wohlsclagel at woosch@kewlrides.org\nDavid Klukowski at
  dkluko@kewlrides.org\nChristopher Holte at thenexrum@kewlrides.org\nO
 r kewlrides@kewlrides.org\n\nFor more information visit https://www.so
 utheastwheelsevents.com/events/kewlrides-presents-christmas-in-july-al
 pharetta-ga-july-13-2013
DTSTART;TZID=Pacific/Midway:20130713T120000
DTEND;TZID=Pacific/Midway:20130713T150000
CATEGORIES:carshow, "/", cruisein, toys, for, tots
LOCATION:Miller's Ale House in Alpharetta, Georgia
WEBSITE:http://ngivettes.org/coppermine/albums/userpics/10008/normal_K
 ewlRidesXmasInJulyT4TFlyer2013.jpg
URL:http://ngivettes.org/coppermine/albums/userpics/10008/normal_KewlR
 idesXmasInJulyT4TFlyer2013.jpg
CONTACT:678-530-4370
ORGANIZER;CN="Mark O Holte":https://www.southeastwheelsevents.com/prof
 ile/MarkOHolte
ATTACH;FMTTYPE="image/jpeg":
ATTENDEE;ROLE=REQ-PARTICIPANT;PARTSTAT=ACCEPTED;RSVP=TRUE;CN="Mark O H
 olte":https://www.southeastwheelsevents.com/profile/MarkOHolte
END:VEVENT
END:VCALENDAR
