BEGIN:VCALENDAR
PRODID:NingEventWidget-v1
VERSION:2.0
METHOD:PUBLISH
BEGIN:VTIMEZONE
TZID:Pacific/Midway
X-LIC-LOCATION:Pacific/Midway
BEGIN:STANDARD
TZOFFSETFROM:-1100
TZOFFSETTO:-1100
TZNAME:SST
DTSTART:19700101T000000
END:STANDARD
END:VTIMEZONE
BEGIN:VEVENT
UID:5072275:Event:307829
DTSTAMP:20260424T030715Z
SUMMARY:KewlRides Presents Christmas In July - Alpharetta GA July 17, 
 2011
DESCRIPTION:Well it’s that time of year again, what time of year, yo
 u ask, the now official KewlRides USMC Toys for Tots Christmas In July
  Toy Drive / Cruise In Car Show. This will be the second year for this
  event joining the Annual December USMC Toys for Tots Toy Drive / Car 
 Show. KewlRides.org will host Christmas in July on Sunday July 17th at
  Miller's Ale House in Alpharetta, Georgia at the former Home Depot Pa
 rking Lot next to Sam’s Club. This event will be held during the usu
 al KewlRides Chillin' day (third Sunday of the month) but this will be
  a Toy Drive / Cruise In Car Show with the sole purpose of collecting 
 Toys for the USMC 2011 Toy for Tots promotion.As the host of the event
 , KewlRides opens this event to all Vehicle Marquees (any make of vehi
 cle). We are hosting this event with the idea that many cannot attend 
 the event in December due to various reasons. We of course will hold o
 ur annual USMC Toy for Tots on December 10th as usual, but want to giv
 e the opportunity to more folks to be a part of this fantastic charity
  vehicle. This Toy Drive/ Cruise In Car Show will be a people choice a
 ward show. Upon entering the parking area you will receive a numbered 
 dash display and a voting sheet for Best in Show categories. This show
  will be from 12:00 (noon) through 3:00 PM with trophies awarded at 2:
 30PM. Registration for the show is the same as Toys for Tots in Decemb
 er, a NEW UNWRAPPED TOY or TOYS. So start up that KewlRide and head ou
 t to the Second Annual KewlRides Christmas in July Toys for Tots –To
 y Drive / Cruise In Car Show for US Marine Corps. We will be there wha
 t is your excuse? KewlRides Toy Drive / Charity Car ShowSunday July 17
 , 2011 - 12:00 (noon) - 3:30 PMLocation: 1075 Davis Dr., Alpharetta, G
 eorgia, 30004The 2nd Annual Christmas in July - Toys for Tots Toy Driv
 e / Charity Cruise In Car Show for the US Marines Corps will be hosted
  by Kewlrides.org. As the host of the event, KewlRides has opened this
  event to all vehicles. So bring that KewlRide to the show, entry is a
  NEW UNWRAPPED TOY collected as you drive in. We will be there, so com
 e out have some fun while working for a great cause. For more informat
 ion contact Mark O HolteJoe DeGumbiaDon LutherChris Wohlsclagelor Davi
 d Klukowskiat kewlrides@kewlrides.org\n\nFor more information visit ht
 tps://www.southeastwheelsevents.com/events/kewlrides-presents-christma
 s
DTSTART;TZID=Pacific/Midway:20110717T120000
DTEND;TZID=Pacific/Midway:20110717T153000
CATEGORIES:toys, for, tots, charity, cruise, in
LOCATION:Millers' Ale House/Old Home Depot Parking Lots
WEBSITE:http://ngivettes.org/simplemachinesforum/index.php?topic=304.n
 ew
URL:http://ngivettes.org/simplemachinesforum/index.php?topic=304.new
CONTACT:404-550-4430
ORGANIZER:KewlRides.org
ATTACH;FMTTYPE="image/jpeg":
ATTENDEE;ROLE=REQ-PARTICIPANT;PARTSTAT=ACCEPTED;RSVP=TRUE;CN="joe good
 mon":https://www.southeastwheelsevents.com/profile/joegoodmon
ATTENDEE;ROLE=REQ-PARTICIPANT;PARTSTAT=ACCEPTED;RSVP=TRUE;CN="Mark O H
 olte":https://www.southeastwheelsevents.com/profile/MarkOHolte
ATTENDEE;ROLE=REQ-PARTICIPANT;PARTSTAT=TENTATIVE;RSVP=TRUE;CN="Greg Fo
 ster":https://www.southeastwheelsevents.com/profile/GregFoster
END:VEVENT
END:VCALENDAR
