BEGIN:VCALENDAR
PRODID:NingEventWidget-v1
VERSION:2.0
METHOD:PUBLISH
BEGIN:VTIMEZONE
TZID:Pacific/Midway
X-LIC-LOCATION:Pacific/Midway
BEGIN:STANDARD
TZOFFSETFROM:-1100
TZOFFSETTO:-1100
TZNAME:SST
DTSTART:19700101T000000
END:STANDARD
END:VTIMEZONE
BEGIN:VEVENT
UID:5072275:Event:1210453
DTSTAMP:20260423T142519Z
SUMMARY:Keystone Motor Club 3rd Saturday Cruise in plus meet and greet
  Odessa/Tampa Florida
DESCRIPTION:\r\n\r\n\r\nThis is a gentle reminder:.....We cruise in an
 d meet every 3rd Saturday. We meet at Winn Dixie 17 October 2020 plus 
 women of Keystone (WOK)\r\n\r\nSept meeting 2020 Pictures if you email
  us.\r\n -------------------------\r\n    Lots of new and exciting
  changes are being made for our October 17th, KMC meeting. First of al
 l, every car will be received with a checkered flag as you drive to th
 e meeting area and pass the finish line.  The next improvement, we no
 w have is a welcoming table, to sign in, get a treat or drink of ice w
 ater, and get your 50-50- ticket for $1.  Cruise in at 10AM. Then at 
 exactly 11:00 a.m. we will have a short informative business meeting, 
 then all ticket holders will get a chance to win one of the many Hallo
 ween prizes before the 50-50 drawing for cold hard cash!  Bring your 
 own chairs to relax in the shade while visiting with other car enthusi
 asts.\r\n\r\n      WOK, the Women Of Keystone, will be telling th
 eir favorite Halloween stories, wearing a crazy hat, or showing off th
 is year's Trick or Treat costume.  What fun! \r\n\r\n      One 
 interesting project for new business is to make a written record of th
 e history of KMC which started in 2012.  What do you think of that? 
  Be ready to be interviewed for your story or fill out a \"homework\" 
 sheet for the next meeting. \r\n--------------------\r\n2nd Saturday 
 of every month: Free breakfast  at Insty Tune & Lube  14783 N. Dale 
 Mabry Hwy...free car advice.\r\n----------------\r\nFree Chili coming 
 on November 21. For high octane, bring your own hot sauce!\r\n--------
 --------\r\nOur Humble Highly Informal, Strictly Voluntary Newsletter 
 has 14,000 views!  https://www.tamparacing.com/forums/event-coverage/
 837862-highly-informal-strictly-voluntary-newsletter-keystone-motor-cl
 ub-7.html\r\n\r\n\r\nHave a great day! bobfixesitup@yahoo.com 813-839-
 4281\r\n\r\n\r\n\r\n\r\n\r\n\r\n\r\n\r\n\r\n\r\n\r\n\r\n\r\n\r\n\r\n\r
 \n\n\nFor more information visit https://www.southeastwheelsevents.com
 /events/keystone-motor-club-3rd-saturday-cruise-in-plus-meet-and-greet
DTSTART;TZID=Pacific/Midway:20201219T100000
DTEND;TZID=Pacific/Midway:20201219T130000
CATEGORIES:3rd, saturday, monthly, cruise, in, and, meet, greet
LOCATION:Winn Dixie
WEBSITE:https://www.tamparacing.com/forums/event-coverage/837862-highl
 y-informal-strictly-voluntary-newsletter-keystone-motor-club-7.html
URL:https://www.tamparacing.com/forums/event-coverage/837862-highly-in
 formal-strictly-voluntary-newsletter-keystone-motor-club-7.html
CONTACT:813-452-7807
ORGANIZER:Bob Fixesit and the Keystone Motor Club
ATTACH;FMTTYPE="image/jpeg":
ATTENDEE;ROLE=REQ-PARTICIPANT;PARTSTAT=ACCEPTED;RSVP=TRUE;CN="Bob Fixe
 sit":https://www.southeastwheelsevents.com/profile/BobFixesit
END:VEVENT
END:VCALENDAR
